View In:
ArcGIS JavaScript
ArcGIS Online Map Viewer
ArcGIS Earth
ArcMap
View Footprint In:
ArcGIS Online Map Viewer
Service Description: This data set contains imagery from the National Agricultural
Imagery Program (NAIP). NAIP acquires digital ortho imagery
during the agricultural growing seasons in the continental U.S..
A primary goal of the NAIP program is to enable availabilty of
ortho imagery within a year of acquisition. NAIP provides two
main products: 1 meter ground sample distance (GSD) ortho
imagery rectified to a horizontal accuracy of within +/- 3
meters of reference digital ortho quarter quads (DOQQS) from
the National Digital Ortho Program (NDOP); and, 2 meter GSD
ortho imagery rectified to within +/- 20 meters of reference
DOQQs. The tiling format of NAIP imagery is based on a 3.75'
x 3.75' quarter quadrangle with a 360 meter buffer on all four
sides. NAIP quarter quads are rectified to the UTM coordinate
system NAD83. NAIP imagery can obtain as much as 10% cloud
cover per tile.
This file was generated by compressing mosaicked digital
quarter quadrangle image tiles scanned from natural color
positive or color infrared positive aerial film into a
single mosaic. The mosaic may cover all or portions of an
individual county. MrSid software compression, with mosaic
option, was used to create the final product.
Each individual image tile within the mosaic covers a 3.75
X 3.75 minute quarter quadrangle plus a 360 meter buffer on
all four sides. All individual tile images and the resulting
mosaic were rectified to the UTM coordinate system, NAD 83 and
cast into a single predetermined UTM zone.
All digital products and the underlying film images were
produced through the National Agriculture Imagery Program (NAIP).
The primary purpose of the mosaicked digital ortho quarter quads
is to support USDA Field Service Centers located in counties
throughout the United States.
Name: AerialPhotography/2003AirPhotoFSA1Meter
Description: This data set contains imagery from the National Agricultural
Imagery Program (NAIP). NAIP acquires digital ortho imagery
during the agricultural growing seasons in the continental U.S..
A primary goal of the NAIP program is to enable availabilty of
ortho imagery within a year of acquisition. NAIP provides two
main products: 1 meter ground sample distance (GSD) ortho
imagery rectified to a horizontal accuracy of within +/- 3
meters of reference digital ortho quarter quads (DOQQS) from
the National Digital Ortho Program (NDOP); and, 2 meter GSD
ortho imagery rectified to within +/- 20 meters of reference
DOQQs. The tiling format of NAIP imagery is based on a 3.75'
x 3.75' quarter quadrangle with a 360 meter buffer on all four
sides. NAIP quarter quads are rectified to the UTM coordinate
system NAD83. NAIP imagery can obtain as much as 10% cloud
cover per tile.
This file was generated by compressing mosaicked digital
quarter quadrangle image tiles scanned from natural color
positive or color infrared positive aerial film into a
single mosaic. The mosaic may cover all or portions of an
individual county. MrSid software compression, with mosaic
option, was used to create the final product.
Each individual image tile within the mosaic covers a 3.75
X 3.75 minute quarter quadrangle plus a 360 meter buffer on
all four sides. All individual tile images and the resulting
mosaic were rectified to the UTM coordinate system, NAD 83 and
cast into a single predetermined UTM zone.
All digital products and the underlying film images were
produced through the National Agriculture Imagery Program (NAIP).
The primary purpose of the mosaicked digital ortho quarter quads
is to support USDA Field Service Centers located in counties
throughout the United States.
Single Fused Map Cache: false
Extent:
XMin: 469797
YMin: 4920107
XMax: 525176
YMax: 4983327
Spatial Reference: 26915
(26915)
Initial Extent:
XMin: 469797
YMin: 4920107
XMax: 525176
YMax: 4983327
Spatial Reference: 26915
(26915)
Full Extent:
XMin: 469797
YMin: 4920107
XMax: 525176
YMax: 4983327
Spatial Reference: 26915
(26915)
Pixel Size X: 1.0
Pixel Size Y: 1.0
Band Count: 3
Pixel Type: U8
RasterFunction Infos: {"rasterFunctionInfos": [{
"name": "None",
"description": "",
"help": ""
}]}
Mensuration Capabilities: Basic
Has Histograms: true
Has Colormap: false
Has Multi Dimensions : false
Rendering Rule:
Min Scale: 0
Max Scale: 0
Copyright Text:
Service Data Type: esriImageServiceDataTypeRGB
Min Values: 0, 0, 0
Max Values: 210, 219, 225
Mean Values: 82.130216040249, 87.993489197988, 84.241195620006
Standard Deviation Values: 45.820736193646, 48.551670217412, 46.32445831489
Object ID Field:
Fields:
None
Default Mosaic Method: Center
Allowed Mosaic Methods:
SortField:
SortValue: null
Mosaic Operator: First
Default Compression Quality: 75
Default Resampling Method: Bilinear
Max Record Count: null
Max Image Height: 4100
Max Image Width: 15000
Max Download Image Count: null
Max Mosaic Image Count: null
Allow Raster Function: true
Allow Copy: true
Allow Analysis: true
Allow Compute TiePoints: false
Supports Statistics: false
Supports Advanced Queries: false
Use StandardizedQueries: true
Raster Type Infos:
Name: Raster Dataset
Description: Supports all ArcGIS Raster Datasets
Help:
Has Raster Attribute Table: false
Edit Fields Info: null
Ownership Based AccessControl For Rasters: null
Child Resources:
Info
Histograms
Statistics
Key Properties
Legend
Raster Function Infos
Supported Operations:
Export Image
Identify
Measure
Compute Histograms
Compute Statistics Histograms
Get Samples
Compute Class Statistics
Query Boundary
Compute Pixel Location
Compute Angles
Validate
Project