{
 "currentVersion": 11.2,
 "serviceDescription": "This data set contains imagery from the National Agricultural\nImagery Program (NAIP). NAIP acquires digital ortho imagery\nduring the agricultural growing seasons in the continental U.S..\nA primary goal of the NAIP program is to enable availabilty of\northo imagery within a year of acquisition. NAIP provides two\nmain products: 1 meter ground sample distance (GSD) ortho\nimagery rectified to a horizontal accuracy of within +/- 3\nmeters of reference digital ortho quarter quads (DOQQS) from\nthe National Digital Ortho Program (NDOP); and, 2 meter GSD\northo imagery rectified to within +/- 20 meters of reference\nDOQQs. The tiling format of NAIP imagery is based on a 3.75'\nx 3.75' quarter quadrangle with a 360 meter buffer on all four\nsides. NAIP quarter quads are rectified to the UTM coordinate\nsystem NAD83. NAIP imagery can obtain as much as 10% cloud\ncover per tile.\nThis file was generated by compressing mosaicked digital\nquarter quadrangle image tiles scanned from natural color\npositive or color infrared positive aerial film into a\nsingle mosaic. The mosaic may cover all or portions of an\nindividual county. MrSid software compression, with mosaic\noption, was used to create the final product.\nEach individual image tile within the mosaic covers a 3.75\nX 3.75 minute quarter quadrangle plus a 360 meter buffer on\nall four sides. All individual tile images and the resulting\nmosaic were rectified to the UTM coordinate system, NAD 83 and\ncast into a single predetermined UTM zone.\nAll digital products and the underlying film images were\nproduced through the National Agriculture Imagery Program (NAIP).\nThe primary purpose of the mosaicked digital ortho quarter quads\nis to support USDA Field Service Centers located in counties\nthroughout the United States.",
 "name": "AerialPhotography/2003AirPhotoFSA1Meter",
 "description": "This data set contains imagery from the National Agricultural\nImagery Program (NAIP). NAIP acquires digital ortho imagery\nduring the agricultural growing seasons in the continental U.S..\nA primary goal of the NAIP program is to enable availabilty of\northo imagery within a year of acquisition. NAIP provides two\nmain products: 1 meter ground sample distance (GSD) ortho\nimagery rectified to a horizontal accuracy of within +/- 3\nmeters of reference digital ortho quarter quads (DOQQS) from\nthe National Digital Ortho Program (NDOP); and, 2 meter GSD\northo imagery rectified to within +/- 20 meters of reference\nDOQQs. The tiling format of NAIP imagery is based on a 3.75'\nx 3.75' quarter quadrangle with a 360 meter buffer on all four\nsides. NAIP quarter quads are rectified to the UTM coordinate\nsystem NAD83. NAIP imagery can obtain as much as 10% cloud\ncover per tile.\nThis file was generated by compressing mosaicked digital\nquarter quadrangle image tiles scanned from natural color\npositive or color infrared positive aerial film into a\nsingle mosaic. The mosaic may cover all or portions of an\nindividual county. MrSid software compression, with mosaic\noption, was used to create the final product.\nEach individual image tile within the mosaic covers a 3.75\nX 3.75 minute quarter quadrangle plus a 360 meter buffer on\nall four sides. All individual tile images and the resulting\nmosaic were rectified to the UTM coordinate system, NAD 83 and\ncast into a single predetermined UTM zone.\nAll digital products and the underlying film images were\nproduced through the National Agriculture Imagery Program (NAIP).\nThe primary purpose of the mosaicked digital ortho quarter quads\nis to support USDA Field Service Centers located in counties\nthroughout the United States.",
 "extent": {
  "xmin": 469797,
  "ymin": 4920107,
  "xmax": 525176,
  "ymax": 4983327,
  "spatialReference": {
   "wkid": 26915,
   "latestWkid": 26915
  }
 },
 "initialExtent": {
  "xmin": 469797,
  "ymin": 4920107,
  "xmax": 525176,
  "ymax": 4983327,
  "spatialReference": {
   "wkid": 26915,
   "latestWkid": 26915
  }
 },
 "fullExtent": {
  "xmin": 469797,
  "ymin": 4920107,
  "xmax": 525176,
  "ymax": 4983327,
  "spatialReference": {
   "wkid": 26915,
   "latestWkid": 26915
  }
 },
 "sortableFields": "",
 "bandCount": 3,
 "pixelType": "U8",
 "minValues": [
  0,
  0,
  0
 ],
 "maxValues": [
  210,
  219,
  225
 ],
 "meanValues": [
  82.130216040249,
  87.993489197988,
  84.241195620006
 ],
 "stdvValues": [
  45.820736193646,
  48.551670217412,
  46.32445831489
 ],
 "hasMultidimensions": false,
 "pixelSizeX": 1,
 "pixelSizeY": 1,
 "meanPixelSize": 1,
 "datasetFormat": "MrSID",
 "uncompressedSize": 10503181140,
 "blockWidth": 1024,
 "blockHeight": 128,
 "compressionType": "Wavelet (MG2)",
 "bandNames": [
  "Band_1",
  "Band_2",
  "Band_3"
 ],
 "allowCopy": true,
 "allowAnalysis": true,
 "itemAccess": false,
 "inspectionCapabilities": "",
 "minPixelSize": 0,
 "maxPixelSize": 0,
 "copyrightText": "",
 "serviceDataType": "esriImageServiceDataTypeRGB",
 "serviceSourceType": "esriImageServiceSourceTypeDataset",
 "objectIdField": "",
 "fields": [],
 "capabilities": "Image,Metadata,Mensuration",
 "defaultMosaicMethod": "Center",
 "allowedMosaicMethods": "",
 "sortField": "",
 "sortValue": null,
 "sortAscending": true,
 "mosaicOperator": "First",
 "defaultCompressionQuality": 75,
 "defaultResamplingMethod": "Bilinear",
 "maxImageHeight": 4100,
 "maxImageWidth": 15000,
 "allowRasterFunction": true,
 "rasterFunctionInfos": [
  {
   "name": "None",
   "description": "",
   "help": ""
  }
 ],
 "rasterTypeInfos": [
  {
   "name": "Raster Dataset",
   "description": "Supports all ArcGIS Raster Datasets",
   "help": ""
  }
 ],
 "mensurationCapabilities": "Basic",
 "hasHistograms": true,
 "hasColormap": false,
 "hasRasterAttributeTable": false,
 "minScale": 0,
 "maxScale": 0,
 "exportTilesAllowed": false,
 "supportsStatistics": false,
 "supportsAdvancedQueries": false,
 "editFieldsInfo": null,
 "ownershipBasedAccessControlForRasters": null,
 "allowComputeTiePoints": false,
 "useStandardizedQueries": true,
 "advancedQueryCapabilities": {
  "useStandardizedQueries": true,
  "supportsStatistics": false,
  "supportsOrderBy": false,
  "supportsDistinct": false,
  "supportsPagination": false
 },
 "spatialReference": {
  "wkid": 26915,
  "latestWkid": 26915
 }
}
