View In:
ArcGIS JavaScript
ArcGIS Online Map Viewer
ArcGIS Earth
ArcMap
View Footprint In:
ArcGIS Online Map Viewer
Service Description: Color aerial photography taken September 2002. Original TIFF images were reprojected to the Dakota County Coordinate System and compressed using MrSID. Photography was flown at 17,500 feet with 0.75 meter resolution.
Name: AerialPhotography/2002AirPhotoLeafOnThreeQuarterMeter
Description: Color aerial photography taken September 2002. Original TIFF images were reprojected to the Dakota County Coordinate System and compressed using MrSID. Photography was flown at 17,500 feet with 0.75 meter resolution.
Single Fused Map Cache: false
Extent:
XMin: 489373.59706715826
YMin: 83240.65837370441
XMax: 656931.5970671582
YMax: 286254.6583737044
Spatial Reference: PROJCS["MN_Dakota_Lambert_Conformal_Conic",GEOGCS["GCS_MN_Dakota",DATUM["D_MN_Dakota",SPHEROID["MN_Dakota",6378421.989,298.2572133677353]],PRIMEM["Greenwich",0.0],UNIT["Degree",0.0174532925199433]],PROJECTION["Lambert_Conformal_Conic"],PARAMETER["False_Easting",500000.0],PARAMETER["False_Northing",100000.0],PARAMETER["Central_Meridian",-93.31666666666666],PARAMETER["Standard_Parallel_1",44.51666666666667],PARAMETER["Standard_Parallel_2",44.91666666666666],PARAMETER["Latitude_Of_Origin",44.47194444444445],UNIT["Foot_US",0.3048006096012192]]
Initial Extent:
XMin: 489373.59706715826
YMin: 83240.65837370441
XMax: 656931.5970671582
YMax: 286254.6583737044
Spatial Reference: PROJCS["MN_Dakota_Lambert_Conformal_Conic",GEOGCS["GCS_MN_Dakota",DATUM["D_MN_Dakota",SPHEROID["MN_Dakota",6378421.989,298.2572133677353]],PRIMEM["Greenwich",0.0],UNIT["Degree",0.0174532925199433]],PROJECTION["Lambert_Conformal_Conic"],PARAMETER["False_Easting",500000.0],PARAMETER["False_Northing",100000.0],PARAMETER["Central_Meridian",-93.31666666666666],PARAMETER["Standard_Parallel_1",44.51666666666667],PARAMETER["Standard_Parallel_2",44.91666666666666],PARAMETER["Latitude_Of_Origin",44.47194444444445],UNIT["Foot_US",0.3048006096012192]]
Full Extent:
XMin: 489373.59706715826
YMin: 83240.65837370441
XMax: 656931.5970671582
YMax: 286254.6583737044
Spatial Reference: PROJCS["MN_Dakota_Lambert_Conformal_Conic",GEOGCS["GCS_MN_Dakota",DATUM["D_MN_Dakota",SPHEROID["MN_Dakota",6378421.989,298.2572133677353]],PRIMEM["Greenwich",0.0],UNIT["Degree",0.0174532925199433]],PROJECTION["Lambert_Conformal_Conic"],PARAMETER["False_Easting",500000.0],PARAMETER["False_Northing",100000.0],PARAMETER["Central_Meridian",-93.31666666666666],PARAMETER["Standard_Parallel_1",44.51666666666667],PARAMETER["Standard_Parallel_2",44.91666666666666],PARAMETER["Latitude_Of_Origin",44.47194444444445],UNIT["Foot_US",0.3048006096012192]]
Pixel Size X: 1.9999999999999993
Pixel Size Y: 2.0
Band Count: 3
Pixel Type: U8
RasterFunction Infos: {"rasterFunctionInfos": [{
"name": "None",
"description": "",
"help": ""
}]}
Mensuration Capabilities: Basic
Has Histograms: true
Has Colormap: false
Has Multi Dimensions : false
Rendering Rule:
Min Scale: 0
Max Scale: 0
Copyright Text:
Service Data Type: esriImageServiceDataTypeRGB
Min Values: 0, 0, 0
Max Values: 255, 255, 255
Mean Values: 109.55214490357, 110.32532543696, 99.266243005749
Standard Deviation Values: 54.228084538678, 52.740279343943, 53.86471485149
Object ID Field:
Fields:
None
Default Mosaic Method: Center
Allowed Mosaic Methods:
SortField:
SortValue: null
Mosaic Operator: First
Default Compression Quality: 75
Default Resampling Method: Bilinear
Max Record Count: null
Max Image Height: 4100
Max Image Width: 15000
Max Download Image Count: null
Max Mosaic Image Count: null
Allow Raster Function: true
Allow Copy: true
Allow Analysis: true
Allow Compute TiePoints: false
Supports Statistics: false
Supports Advanced Queries: false
Use StandardizedQueries: true
Raster Type Infos:
Name: Raster Dataset
Description: Supports all ArcGIS Raster Datasets
Help:
Has Raster Attribute Table: false
Edit Fields Info: null
Ownership Based AccessControl For Rasters: null
Child Resources:
Info
Histograms
Statistics
Key Properties
Legend
Raster Function Infos
Supported Operations:
Export Image
Identify
Measure
Compute Histograms
Compute Statistics Histograms
Get Samples
Compute Class Statistics
Query Boundary
Compute Pixel Location
Compute Angles
Validate
Project