{
 "currentVersion": 11.2,
 "serviceDescription": "Color aerial photography taken September 2002. Original TIFF images were reprojected to the Dakota County Coordinate System and compressed using MrSID. Photography was flown at 17,500 feet with 0.75 meter resolution.",
 "name": "AerialPhotography/2002AirPhotoLeafOnThreeQuarterMeter",
 "description": "Color aerial photography taken September 2002. Original TIFF images were reprojected to the Dakota County Coordinate System and compressed using MrSID. Photography was flown at 17,500 feet with 0.75 meter resolution.",
 "extent": {
  "xmin": 489373.59706715826,
  "ymin": 83240.65837370441,
  "xmax": 656931.5970671582,
  "ymax": 286254.6583737044,
  "spatialReference": {
   "wkt2": "PROJCRS[\"MN_Dakota_Lambert_Conformal_Conic\",BASEGEOGCRS[\"GCS_MN_Dakota\",DATUM[\"D_MN_Dakota\",ELLIPSOID[\"MN_Dakota\",6378421.989,298.257213367735,LENGTHUNIT[\"Meter\",1.0]]],PRIMEM[\"Greenwich\",0.0,ANGLEUNIT[\"Degree\",0.0174532925199433]],CS[ellipsoidal,2],ANGLEUNIT[\"Degree\",0.0174532925199433]],CONVERSION[\"Lambert_Conformal_Conic\",METHOD[\"Lambert_Conformal_Conic\"],PARAMETER[\"False_Easting\",500000.0,LENGTHUNIT[\"Foot_US\",0.3048006096012192]],PARAMETER[\"False_Northing\",100000.0,LENGTHUNIT[\"Foot_US\",0.3048006096012192]],PARAMETER[\"Central_Meridian\",-93.31666666666671,ANGLEUNIT[\"Degree\",0.0174532925199433]],PARAMETER[\"Standard_Parallel_1\",44.5166666666667,ANGLEUNIT[\"Degree\",0.0174532925199433]],PARAMETER[\"Standard_Parallel_2\",44.9166666666667,ANGLEUNIT[\"Degree\",0.0174532925199433]],PARAMETER[\"Latitude_Of_Origin\",44.4719444444445,ANGLEUNIT[\"Degree\",0.0174532925199433]]],CS[Cartesian,2],AXIS[\"Easting (X)\",east,ORDER[1]],AXIS[\"Northing (Y)\",north,ORDER[2]],LENGTHUNIT[\"Foot_US\",0.3048006096012192]]",
   "wkt": "PROJCS[\"MN_Dakota_Lambert_Conformal_Conic\",GEOGCS[\"GCS_MN_Dakota\",DATUM[\"D_MN_Dakota\",SPHEROID[\"MN_Dakota\",6378421.989,298.257213367735]],PRIMEM[\"Greenwich\",0.0],UNIT[\"Degree\",0.0174532925199433]],PROJECTION[\"Lambert_Conformal_Conic\"],PARAMETER[\"False_Easting\",500000.0],PARAMETER[\"False_Northing\",100000.0],PARAMETER[\"Central_Meridian\",-93.31666666666671],PARAMETER[\"Standard_Parallel_1\",44.5166666666667],PARAMETER[\"Standard_Parallel_2\",44.9166666666667],PARAMETER[\"Latitude_Of_Origin\",44.4719444444445],UNIT[\"Foot_US\",0.3048006096012192]]"
  }
 },
 "initialExtent": {
  "xmin": 489373.59706715826,
  "ymin": 83240.65837370441,
  "xmax": 656931.5970671582,
  "ymax": 286254.6583737044,
  "spatialReference": {
   "wkt2": "PROJCRS[\"MN_Dakota_Lambert_Conformal_Conic\",BASEGEOGCRS[\"GCS_MN_Dakota\",DATUM[\"D_MN_Dakota\",ELLIPSOID[\"MN_Dakota\",6378421.989,298.257213367735,LENGTHUNIT[\"Meter\",1.0]]],PRIMEM[\"Greenwich\",0.0,ANGLEUNIT[\"Degree\",0.0174532925199433]],CS[ellipsoidal,2],ANGLEUNIT[\"Degree\",0.0174532925199433]],CONVERSION[\"Lambert_Conformal_Conic\",METHOD[\"Lambert_Conformal_Conic\"],PARAMETER[\"False_Easting\",500000.0,LENGTHUNIT[\"Foot_US\",0.3048006096012192]],PARAMETER[\"False_Northing\",100000.0,LENGTHUNIT[\"Foot_US\",0.3048006096012192]],PARAMETER[\"Central_Meridian\",-93.31666666666671,ANGLEUNIT[\"Degree\",0.0174532925199433]],PARAMETER[\"Standard_Parallel_1\",44.5166666666667,ANGLEUNIT[\"Degree\",0.0174532925199433]],PARAMETER[\"Standard_Parallel_2\",44.9166666666667,ANGLEUNIT[\"Degree\",0.0174532925199433]],PARAMETER[\"Latitude_Of_Origin\",44.4719444444445,ANGLEUNIT[\"Degree\",0.0174532925199433]]],CS[Cartesian,2],AXIS[\"Easting (X)\",east,ORDER[1]],AXIS[\"Northing (Y)\",north,ORDER[2]],LENGTHUNIT[\"Foot_US\",0.3048006096012192]]",
   "wkt": "PROJCS[\"MN_Dakota_Lambert_Conformal_Conic\",GEOGCS[\"GCS_MN_Dakota\",DATUM[\"D_MN_Dakota\",SPHEROID[\"MN_Dakota\",6378421.989,298.257213367735]],PRIMEM[\"Greenwich\",0.0],UNIT[\"Degree\",0.0174532925199433]],PROJECTION[\"Lambert_Conformal_Conic\"],PARAMETER[\"False_Easting\",500000.0],PARAMETER[\"False_Northing\",100000.0],PARAMETER[\"Central_Meridian\",-93.31666666666671],PARAMETER[\"Standard_Parallel_1\",44.5166666666667],PARAMETER[\"Standard_Parallel_2\",44.9166666666667],PARAMETER[\"Latitude_Of_Origin\",44.4719444444445],UNIT[\"Foot_US\",0.3048006096012192]]"
  }
 },
 "fullExtent": {
  "xmin": 489373.59706715826,
  "ymin": 83240.65837370441,
  "xmax": 656931.5970671582,
  "ymax": 286254.6583737044,
  "spatialReference": {
   "wkt2": "PROJCRS[\"MN_Dakota_Lambert_Conformal_Conic\",BASEGEOGCRS[\"GCS_MN_Dakota\",DATUM[\"D_MN_Dakota\",ELLIPSOID[\"MN_Dakota\",6378421.989,298.257213367735,LENGTHUNIT[\"Meter\",1.0]]],PRIMEM[\"Greenwich\",0.0,ANGLEUNIT[\"Degree\",0.0174532925199433]],CS[ellipsoidal,2],ANGLEUNIT[\"Degree\",0.0174532925199433]],CONVERSION[\"Lambert_Conformal_Conic\",METHOD[\"Lambert_Conformal_Conic\"],PARAMETER[\"False_Easting\",500000.0,LENGTHUNIT[\"Foot_US\",0.3048006096012192]],PARAMETER[\"False_Northing\",100000.0,LENGTHUNIT[\"Foot_US\",0.3048006096012192]],PARAMETER[\"Central_Meridian\",-93.31666666666671,ANGLEUNIT[\"Degree\",0.0174532925199433]],PARAMETER[\"Standard_Parallel_1\",44.5166666666667,ANGLEUNIT[\"Degree\",0.0174532925199433]],PARAMETER[\"Standard_Parallel_2\",44.9166666666667,ANGLEUNIT[\"Degree\",0.0174532925199433]],PARAMETER[\"Latitude_Of_Origin\",44.4719444444445,ANGLEUNIT[\"Degree\",0.0174532925199433]]],CS[Cartesian,2],AXIS[\"Easting (X)\",east,ORDER[1]],AXIS[\"Northing (Y)\",north,ORDER[2]],LENGTHUNIT[\"Foot_US\",0.3048006096012192]]",
   "wkt": "PROJCS[\"MN_Dakota_Lambert_Conformal_Conic\",GEOGCS[\"GCS_MN_Dakota\",DATUM[\"D_MN_Dakota\",SPHEROID[\"MN_Dakota\",6378421.989,298.257213367735]],PRIMEM[\"Greenwich\",0.0],UNIT[\"Degree\",0.0174532925199433]],PROJECTION[\"Lambert_Conformal_Conic\"],PARAMETER[\"False_Easting\",500000.0],PARAMETER[\"False_Northing\",100000.0],PARAMETER[\"Central_Meridian\",-93.31666666666671],PARAMETER[\"Standard_Parallel_1\",44.5166666666667],PARAMETER[\"Standard_Parallel_2\",44.9166666666667],PARAMETER[\"Latitude_Of_Origin\",44.4719444444445],UNIT[\"Foot_US\",0.3048006096012192]]"
  }
 },
 "sortableFields": "",
 "bandCount": 3,
 "pixelType": "U8",
 "minValues": [
  0,
  0,
  0
 ],
 "maxValues": [
  255,
  255,
  255
 ],
 "meanValues": [
  109.55214490357,
  110.32532543696,
  99.266243005749
 ],
 "stdvValues": [
  54.228084538678,
  52.740279343943,
  53.86471485149
 ],
 "hasMultidimensions": false,
 "pixelSizeX": 1.9999999999999993,
 "pixelSizeY": 2,
 "meanPixelSize": 0.6096012192024384,
 "datasetFormat": "MrSID",
 "uncompressedSize": 25512464859,
 "blockWidth": 1024,
 "blockHeight": 128,
 "compressionType": "Wavelet (MG2)",
 "bandNames": [
  "Band_1",
  "Band_2",
  "Band_3"
 ],
 "allowCopy": true,
 "allowAnalysis": true,
 "itemAccess": false,
 "inspectionCapabilities": "",
 "minPixelSize": 0,
 "maxPixelSize": 0,
 "copyrightText": "",
 "serviceDataType": "esriImageServiceDataTypeRGB",
 "serviceSourceType": "esriImageServiceSourceTypeDataset",
 "objectIdField": "",
 "fields": [],
 "capabilities": "Image,Metadata,Mensuration",
 "defaultMosaicMethod": "Center",
 "allowedMosaicMethods": "",
 "sortField": "",
 "sortValue": null,
 "sortAscending": true,
 "mosaicOperator": "First",
 "defaultCompressionQuality": 75,
 "defaultResamplingMethod": "Bilinear",
 "maxImageHeight": 4100,
 "maxImageWidth": 15000,
 "allowRasterFunction": true,
 "rasterFunctionInfos": [
  {
   "name": "None",
   "description": "",
   "help": ""
  }
 ],
 "rasterTypeInfos": [
  {
   "name": "Raster Dataset",
   "description": "Supports all ArcGIS Raster Datasets",
   "help": ""
  }
 ],
 "mensurationCapabilities": "Basic",
 "hasHistograms": true,
 "hasColormap": false,
 "hasRasterAttributeTable": false,
 "minScale": 0,
 "maxScale": 0,
 "exportTilesAllowed": false,
 "supportsStatistics": false,
 "supportsAdvancedQueries": false,
 "editFieldsInfo": null,
 "ownershipBasedAccessControlForRasters": null,
 "allowComputeTiePoints": false,
 "useStandardizedQueries": true,
 "advancedQueryCapabilities": {
  "useStandardizedQueries": true,
  "supportsStatistics": false,
  "supportsOrderBy": false,
  "supportsDistinct": false,
  "supportsPagination": false
 },
 "spatialReference": {
  "wkt2": "PROJCRS[\"MN_Dakota_Lambert_Conformal_Conic\",BASEGEOGCRS[\"GCS_MN_Dakota\",DATUM[\"D_MN_Dakota\",ELLIPSOID[\"MN_Dakota\",6378421.989,298.257213367735,LENGTHUNIT[\"Meter\",1.0]]],PRIMEM[\"Greenwich\",0.0,ANGLEUNIT[\"Degree\",0.0174532925199433]],CS[ellipsoidal,2],ANGLEUNIT[\"Degree\",0.0174532925199433]],CONVERSION[\"Lambert_Conformal_Conic\",METHOD[\"Lambert_Conformal_Conic\"],PARAMETER[\"False_Easting\",500000.0,LENGTHUNIT[\"Foot_US\",0.3048006096012192]],PARAMETER[\"False_Northing\",100000.0,LENGTHUNIT[\"Foot_US\",0.3048006096012192]],PARAMETER[\"Central_Meridian\",-93.31666666666671,ANGLEUNIT[\"Degree\",0.0174532925199433]],PARAMETER[\"Standard_Parallel_1\",44.5166666666667,ANGLEUNIT[\"Degree\",0.0174532925199433]],PARAMETER[\"Standard_Parallel_2\",44.9166666666667,ANGLEUNIT[\"Degree\",0.0174532925199433]],PARAMETER[\"Latitude_Of_Origin\",44.4719444444445,ANGLEUNIT[\"Degree\",0.0174532925199433]]],CS[Cartesian,2],AXIS[\"Easting (X)\",east,ORDER[1]],AXIS[\"Northing (Y)\",north,ORDER[2]],LENGTHUNIT[\"Foot_US\",0.3048006096012192]]",
  "wkt": "PROJCS[\"MN_Dakota_Lambert_Conformal_Conic\",GEOGCS[\"GCS_MN_Dakota\",DATUM[\"D_MN_Dakota\",SPHEROID[\"MN_Dakota\",6378421.989,298.257213367735]],PRIMEM[\"Greenwich\",0.0],UNIT[\"Degree\",0.0174532925199433]],PROJECTION[\"Lambert_Conformal_Conic\"],PARAMETER[\"False_Easting\",500000.0],PARAMETER[\"False_Northing\",100000.0],PARAMETER[\"Central_Meridian\",-93.31666666666671],PARAMETER[\"Standard_Parallel_1\",44.5166666666667],PARAMETER[\"Standard_Parallel_2\",44.9166666666667],PARAMETER[\"Latitude_Of_Origin\",44.4719444444445],UNIT[\"Foot_US\",0.3048006096012192]]"
 }
}
