View In:
  ArcGIS JavaScript
  ArcGIS Online Map Viewer
  ArcGIS Earth
Service Description:  Tested to 1.77 feet horizontal accuracy at 95% confidence level.
Name:  AerialPhotography/2022AirPhotoLeafOn6Inch_Fall
Description:  Tested to 1.77 feet horizontal accuracy at 95% confidence level.
Single Fused Map Cache:  true
Tile Info: 
- Height: 512
- Width: 512
- DPI: 96
- 
Levels of Detail:  10
- Format: MIXED
- Compression Quality: 75.0
- LERC Error: NaN
- Origin: X:  -1.19184E8
 Y:  1.410427E8
 
- Spatial Reference: 26915
 (26915)
 
Storage Info:
- Storage Format: esriMapCacheStorageModeCompactV2
- Packet Size: 128
Extent:
XMin: 473318.586
YMin: 4923167.547600016
XMax: 522270.38039998617
YMax: 4975135.033200001
Spatial Reference: 26915
 (26915)
Initial Extent:
XMin: 473318.586
YMin: 4923167.547600016
XMax: 522270.38039998617
YMax: 4975135.033200001
Spatial Reference: 26915
 (26915)
Full Extent:
XMin: 473318.586
YMin: 4923167.547600016
XMax: 522270.38039998617
YMax: 4975135.033200001
Spatial Reference: 26915
 (26915)
Pixel Size X: 0.1523999999999569
Pixel Size Y:  0.15239999999995701
Band Count: 3
Pixel Type: U8
RasterFunction Infos:  {"rasterFunctionInfos": [
 {
  "name": "RGBDefault_6Inch",
  "description": "A raster function template.",
  "help": ""
 },
 {
  "name": "None",
  "description": "A No-Op Function.",
  "help": ""
 },
 {
  "name": "Greyscale_6Inch",
  "description": "A raster function template.",
  "help": ""
 }
]}
Mensuration Capabilities: None
Inspection Capabilities: 
Has Histograms:  true
Has Colormap:  false
Has Multi Dimensions :  false
Rendering Rule: 
Min Scale:  0
Max Scale:  0
Min LOD:  0
Max LOD:  9
Resampling:  true
Copyright Text:  Nearmap US Inc
Service Data Type:  esriImageServiceDataTypeRGB
Min Values:  0, 0, 0
Max Values:  255, 255, 244
Mean Values:  67.81028642597784, 74.95293805186972, 70.41288962172352
Standard Deviation Values:  51.499231382756896, 55.652992966720696, 52.13003773422255
Object ID Field:  OBJECTID
Fields: 
- 
OBJECTID
(
type: esriFieldTypeOID, alias: OBJECTID
)
- 
Shape
(
type: esriFieldTypeGeometry, alias: Shape
)
- 
Name
(
type: esriFieldTypeString, alias: Name, length: 200
)
- 
MinPS
(
type: esriFieldTypeDouble, alias: MinPS
)
- 
MaxPS
(
type: esriFieldTypeDouble, alias: MaxPS
)
- 
LowPS
(
type: esriFieldTypeDouble, alias: LowPS
)
- 
HighPS
(
type: esriFieldTypeDouble, alias: HighPS
)
- 
Category
(
type: esriFieldTypeInteger, alias: Category
, Coded Values: 
[0: Unknown]
, [1: Primary]
, [2: Overview]
, ...6 more...
)
- 
Tag
(
type: esriFieldTypeString, alias: Tag, length: 100
)
- 
GroupName
(
type: esriFieldTypeString, alias: GroupName, length: 100
)
- 
ProductName
(
type: esriFieldTypeString, alias: ProductName, length: 100
)
- 
CenterX
(
type: esriFieldTypeDouble, alias: CenterX
)
- 
CenterY
(
type: esriFieldTypeDouble, alias: CenterY
)
- 
ZOrder
(
type: esriFieldTypeInteger, alias: ZOrder
)
- 
Shape_Length
(
type: esriFieldTypeDouble, alias: Shape_Length
)
- 
Shape_Area
(
type: esriFieldTypeDouble, alias: Shape_Area
)
Default Mosaic Method: Northwest
Allowed Mosaic Methods:  NorthWest,Center,LockRaster,ByAttribute,Nadir,Viewpoint,Seamline,None
SortField:  
SortValue:  null
Mosaic Operator:  First
Default Compression Quality:  75
Default Resampling Method:  Bilinear
Max Record Count:  1000
Max Image Height:  4100
Max Image Width:  15000
Max Download Image Count:  20
Max Mosaic Image Count:  44
Allow Raster Function:  true
Allow Copy:  true
Allow Analysis:  true
Allow Compute TiePoints:  false
Supports Statistics:  true
Supports Advanced Queries:  true
Use StandardizedQueries:  true
Raster Type Infos: 
Name: Raster Dataset
Description: Supports all ArcGIS Raster Datasets
Help: 
Has Raster Attribute Table: false
Edit Fields Info:  null
Ownership Based AccessControl For Rasters:  null
Child Resources:
  
Info
  Histograms
  Statistics
  Key Properties
  Legend
  Raster Function Infos
Supported Operations:
  
Export Image
  Query
  Identify
  Download Rasters
  Get Image Url
  Compute Histograms
  Compute Statistics Histograms
  Get Samples
  Compute Class Statistics
  Query GPS Info
  Find Images
  Image to Map
  Map to Image
  Measure from Image
  Image to Map Multiray
  Query Boundary
  Compute Pixel Location
  Compute Angles
  Validate
  Project
  EstimateExportTilesSize
  ExportTiles