View In:
ArcGIS JavaScript
ArcGIS Online Map Viewer
ArcGIS Earth
Service Description: Tested to 1.73 feet horizontal accuracy at 95% confidence level.
Name: AerialPhotography/2021AirPhotoLeafOn6Inch_Fall
Description: Tested to 1.73 feet horizontal accuracy at 95% confidence level.
Single Fused Map Cache: false
Extent:
XMin: 473317.5713498813
YMin: 4923518.9103392605
XMax: 522076.1225485745
YMax: 4975135.875937877
Spatial Reference: 26915
(26915)
Initial Extent:
XMin: 473317.5713498813
YMin: 4923518.9103392605
XMax: 522076.1225485745
YMax: 4975135.875937877
Spatial Reference: 26915
(26915)
Full Extent:
XMin: 473317.5713498813
YMin: 4923518.9103392605
XMax: 522076.1225485745
YMax: 4975135.875937877
Spatial Reference: 26915
(26915)
Pixel Size X: 0.15239999999591552
Pixel Size Y: 0.1523999999959159
Band Count: 3
Pixel Type: U8
RasterFunction Infos: {"rasterFunctionInfos": [
{
"name": "RGBDefault_6inch",
"description": "A raster function template.",
"help": ""
},
{
"name": "None",
"description": "A No-Op Function.",
"help": ""
},
{
"name": "GreyScale_6inch",
"description": "A raster function template.",
"help": ""
}
]}
Mensuration Capabilities: Basic
Has Histograms: true
Has Colormap: false
Has Multi Dimensions : false
Rendering Rule:
Min Scale: 0
Max Scale: 0
Copyright Text: This imagery is copyrighted and licensed by Nearmap US Inc, which retains ownership of the imagery. It is being provided by Dakota County under the terms of that license. Under that license, Dakota County is allowed to provide access to the “Offline Copy Add-On for Government”, on which this image services is based, at 6-inch resolution, six months after the capture date, provided the user acknowledges that the imagery will be used in their normal course of business and must not be resold or distributed for the purpose of direct commercial benefit or gain. By accessing this imagery, the user acknowledges these terms and affirms compliance. https://gisimg.co.dakota.mn.us/mrsid/base_aerialphotography_2020_sprg/Nearmap_DakotaCounty_SIGNED.pdf
Service Data Type: esriImageServiceDataTypeRGB
Min Values: 0, 0, 0
Max Values: 255, 255, 255
Mean Values: 115.7200121690363, 116.66834974791799, 101.1425351865398
Standard Deviation Values: 28.382882892382163, 22.073057894187652, 16.05379931626949
Object ID Field: OBJECTID
Fields:
-
OBJECTID
(
type: esriFieldTypeOID, alias: OBJECTID
)
-
Shape
(
type: esriFieldTypeGeometry, alias: Shape
)
-
Name
(
type: esriFieldTypeString, alias: Name, length: 200
)
-
MinPS
(
type: esriFieldTypeDouble, alias: MinPS
)
-
MaxPS
(
type: esriFieldTypeDouble, alias: MaxPS
)
-
LowPS
(
type: esriFieldTypeDouble, alias: LowPS
)
-
HighPS
(
type: esriFieldTypeDouble, alias: HighPS
)
-
Category
(
type: esriFieldTypeInteger, alias: Category
, Coded Values:
[0: Unknown]
, [1: Primary]
, [2: Overview]
, ...6 more...
)
-
Tag
(
type: esriFieldTypeString, alias: Tag, length: 100
)
-
GroupName
(
type: esriFieldTypeString, alias: GroupName, length: 100
)
-
ProductName
(
type: esriFieldTypeString, alias: ProductName, length: 100
)
-
CenterX
(
type: esriFieldTypeDouble, alias: CenterX
)
-
CenterY
(
type: esriFieldTypeDouble, alias: CenterY
)
-
ZOrder
(
type: esriFieldTypeInteger, alias: ZOrder
)
-
Shape_Length
(
type: esriFieldTypeDouble, alias: Shape_Length
)
-
Shape_Area
(
type: esriFieldTypeDouble, alias: Shape_Area
)
Default Mosaic Method: Northwest
Allowed Mosaic Methods: NorthWest,Center,LockRaster,ByAttribute,Nadir,Viewpoint,Seamline,None
SortField:
SortValue: null
Mosaic Operator: First
Default Compression Quality: 75
Default Resampling Method: Bilinear
Max Record Count: 1000
Max Image Height: 4100
Max Image Width: 15000
Max Download Image Count: 20
Max Mosaic Image Count: 44
Allow Raster Function: true
Allow Copy: true
Allow Analysis: true
Allow Compute TiePoints: false
Supports Statistics: true
Supports Advanced Queries: true
Use StandardizedQueries: true
Raster Type Infos:
Name: Raster Dataset
Description: Supports all ArcGIS Raster Datasets
Help:
Has Raster Attribute Table: false
Edit Fields Info: null
Ownership Based AccessControl For Rasters: null
Child Resources:
Info
Histograms
Statistics
Key Properties
Legend
Raster Function Infos
Supported Operations:
Export Image
Query
Identify
Download Rasters
Measure
Compute Histograms
Compute Statistics Histograms
Get Samples
Compute Class Statistics
Query Boundary
Compute Pixel Location
Compute Angles
Validate
Project
EstimateExportTilesSize
ExportTiles