View In:
ArcGIS JavaScript
ArcGIS Online Map Viewer
ArcGIS Earth
ArcMap
View Footprint In:
ArcGIS Online Map Viewer
Service Description: 3-Inch leaf-on aerial photography for Dakota County flown early Fall 2019.
This imagery is copyrighted and licensed by Nearmap US Inc, which retains ownership of the imagery. It is being provided by Dakota County under the terms of that license. It may be used for any purpose, excluding commercial purpose. Any third party must use this imagery in the ordinary course of their business and may not resell such imagery for the purpose of direct commercial benefit or gain. By accessing this imagery, the user acknowledges these terms and affirms compliance.
Name: AerialPhotography/2019AirPhotoLeafOn3Inch_Fall
Description: 3-Inch leaf-on aerial photography for Dakota County flown early Fall 2019.
This imagery is copyrighted and licensed by Nearmap US Inc, which retains ownership of the imagery. It is being provided by Dakota County under the terms of that license. It may be used for any purpose, excluding commercial purpose. Any third party must use this imagery in the ordinary course of their business and may not resell such imagery for the purpose of direct commercial benefit or gain. By accessing this imagery, the user acknowledges these terms and affirms compliance.
Single Fused Map Cache: false
Extent:
XMin: 472636.3009543458
YMin: 4922018.3538760245
XMax: 522526.0647338649
YMax: 4976736.159311626
Spatial Reference: 26915
(26915)
Initial Extent:
XMin: 472636.3009543458
YMin: 4922018.3538760245
XMax: 522526.0647338649
YMax: 4976736.159311626
Spatial Reference: 26915
(26915)
Full Extent:
XMin: 472636.3009543458
YMin: 4922018.3538760245
XMax: 522526.0647338649
YMax: 4976736.159311626
Spatial Reference: 26915
(26915)
Pixel Size X: 0.07620015240029192
Pixel Size Y: 0.07620015240029192
Band Count: 3
Pixel Type: U8
RasterFunction Infos: {"rasterFunctionInfos": [
{
"name": "RGBCompositeDefault",
"description": "A raster function template.",
"help": ""
},
{
"name": "GreyScaleStretched",
"description": "A raster function template.",
"help": ""
},
{
"name": "None",
"description": "A No-Op Function.",
"help": ""
}
]}
Mensuration Capabilities: Basic
Has Histograms: true
Has Colormap: false
Has Multi Dimensions : false
Rendering Rule:
Min Scale: 0
Max Scale: 0
Copyright Text:
Service Data Type: esriImageServiceDataTypeRGB
Min Values: 1, 10, 10
Max Values: 255, 255, 255
Mean Values: 112.17717072617269, 115.98542548681209, 108.59829399224886
Standard Deviation Values: 49.102765038189865, 44.873493215484466, 45.34089264754516
Object ID Field: OBJECTID
Fields:
-
OBJECTID
(
type: esriFieldTypeOID, alias: OBJECTID
)
-
Shape
(
type: esriFieldTypeGeometry, alias: Shape
)
-
Name
(
type: esriFieldTypeString, alias: Name, length: 200
)
-
MinPS
(
type: esriFieldTypeDouble, alias: MinPS
)
-
MaxPS
(
type: esriFieldTypeDouble, alias: MaxPS
)
-
LowPS
(
type: esriFieldTypeDouble, alias: LowPS
)
-
HighPS
(
type: esriFieldTypeDouble, alias: HighPS
)
-
Category
(
type: esriFieldTypeInteger, alias: Category
, Coded Values:
[0: Unknown]
, [1: Primary]
, [2: Overview]
, ...6 more...
)
-
Tag
(
type: esriFieldTypeString, alias: Tag, length: 100
)
-
GroupName
(
type: esriFieldTypeString, alias: GroupName, length: 100
)
-
ProductName
(
type: esriFieldTypeString, alias: ProductName, length: 100
)
-
CenterX
(
type: esriFieldTypeDouble, alias: CenterX
)
-
CenterY
(
type: esriFieldTypeDouble, alias: CenterY
)
-
ZOrder
(
type: esriFieldTypeInteger, alias: ZOrder
)
-
Shape_Length
(
type: esriFieldTypeDouble, alias: Shape_Length
)
-
Shape_Area
(
type: esriFieldTypeDouble, alias: Shape_Area
)
Default Mosaic Method: Northwest
Allowed Mosaic Methods: NorthWest,Center,LockRaster,ByAttribute,Nadir,Viewpoint,Seamline,None
SortField:
SortValue: null
Mosaic Operator: First
Default Compression Quality: 75
Default Resampling Method: Bilinear
Max Record Count: 1000
Max Image Height: 4100
Max Image Width: 15000
Max Download Image Count: 0
Max Mosaic Image Count: 20
Allow Raster Function: true
Allow Copy: true
Allow Analysis: true
Allow Compute TiePoints: false
Supports Statistics: true
Supports Advanced Queries: true
Use StandardizedQueries: true
Raster Type Infos:
Name: Raster Dataset
Description: Supports all ArcGIS Raster Datasets
Help:
Has Raster Attribute Table: false
Edit Fields Info: null
Ownership Based AccessControl For Rasters: null
Child Resources:
Info
Histograms
Statistics
Key Properties
Legend
Raster Function Infos
Supported Operations:
Export Image
Query
Identify
Measure
Compute Histograms
Compute Statistics Histograms
Get Samples
Compute Class Statistics
Query Boundary
Compute Pixel Location
Compute Angles
Validate
Project