View In:
ArcGIS JavaScript
ArcGIS Online Map Viewer
ArcGIS Earth
ArcMap
View Footprint In:
ArcGIS Online Map Viewer
Service Description: 2008 Air Photo Leaf-Off 6-Inch
Name: AerialPhotography/2008AirPhotoLeafOff6Inch
Description: 2008 Air Photo Leaf-Off 6-Inch
Single Fused Map Cache: false
Extent:
XMin: 492575.75
YMin: 95913.75
XMax: 654196.75
YMax: 265214.75
Spatial Reference: PROJCS["MN_Dakota_Lambert_Conformal_Conic",GEOGCS["GCS_MN_Dakota",DATUM["D_MN_Dakota",SPHEROID["MN_Dakota",6378421.989,298.2572133677353]],PRIMEM["Greenwich",0.0],UNIT["Degree",0.0174532925199433]],PROJECTION["Lambert_Conformal_Conic"],PARAMETER["False_Easting",500000.0],PARAMETER["False_Northing",100000.0],PARAMETER["Central_Meridian",-93.31666666666666],PARAMETER["Standard_Parallel_1",44.51666666666667],PARAMETER["Standard_Parallel_2",44.91666666666666],PARAMETER["Latitude_Of_Origin",44.47194444444445],UNIT["Foot_US",0.3048006096012192]]
Initial Extent:
XMin: 492575.75
YMin: 95913.75
XMax: 654196.75
YMax: 265214.75
Spatial Reference: PROJCS["MN_Dakota_Lambert_Conformal_Conic",GEOGCS["GCS_MN_Dakota",DATUM["D_MN_Dakota",SPHEROID["MN_Dakota",6378421.989,298.2572133677353]],PRIMEM["Greenwich",0.0],UNIT["Degree",0.0174532925199433]],PROJECTION["Lambert_Conformal_Conic"],PARAMETER["False_Easting",500000.0],PARAMETER["False_Northing",100000.0],PARAMETER["Central_Meridian",-93.31666666666666],PARAMETER["Standard_Parallel_1",44.51666666666667],PARAMETER["Standard_Parallel_2",44.91666666666666],PARAMETER["Latitude_Of_Origin",44.47194444444445],UNIT["Foot_US",0.3048006096012192]]
Full Extent:
XMin: 492575.75
YMin: 95913.75
XMax: 654196.75
YMax: 265214.75
Spatial Reference: PROJCS["MN_Dakota_Lambert_Conformal_Conic",GEOGCS["GCS_MN_Dakota",DATUM["D_MN_Dakota",SPHEROID["MN_Dakota",6378421.989,298.2572133677353]],PRIMEM["Greenwich",0.0],UNIT["Degree",0.0174532925199433]],PROJECTION["Lambert_Conformal_Conic"],PARAMETER["False_Easting",500000.0],PARAMETER["False_Northing",100000.0],PARAMETER["Central_Meridian",-93.31666666666666],PARAMETER["Standard_Parallel_1",44.51666666666667],PARAMETER["Standard_Parallel_2",44.91666666666666],PARAMETER["Latitude_Of_Origin",44.47194444444445],UNIT["Foot_US",0.3048006096012192]]
Pixel Size X: 0.5
Pixel Size Y: 0.5
Band Count: 3
Pixel Type: U8
RasterFunction Infos: {"rasterFunctionInfos": [
{
"name": "None",
"description": "A No-Op Function.",
"help": ""
},
{
"name": "GreyScale",
"description": "A raster function template.",
"help": ""
}
]}
Mensuration Capabilities: Basic
Has Histograms: true
Has Colormap: false
Has Multi Dimensions : false
Rendering Rule:
Min Scale: 0
Max Scale: 0
Copyright Text:
Service Data Type: esriImageServiceDataTypeRGB
Min Values: 0, 6, 0
Max Values: 255, 255, 251
Mean Values: 125.36334115299054, 122.91307775642916, 90.78229192222979
Standard Deviation Values: 32.665796320381496, 24.80263427579841, 22.346894717483835
Object ID Field: OBJECTID
Fields:
-
OBJECTID
(
type: esriFieldTypeOID, alias: OBJECTID
)
-
Shape
(
type: esriFieldTypeGeometry, alias: Shape
)
-
Name
(
type: esriFieldTypeString, alias: Name, length: 200
)
-
MinPS
(
type: esriFieldTypeDouble, alias: MinPS
)
-
MaxPS
(
type: esriFieldTypeDouble, alias: MaxPS
)
-
LowPS
(
type: esriFieldTypeDouble, alias: LowPS
)
-
HighPS
(
type: esriFieldTypeDouble, alias: HighPS
)
-
Category
(
type: esriFieldTypeInteger, alias: Category
, Coded Values:
[0: Unknown]
, [1: Primary]
, [2: Overview]
, ...5 more...
)
-
Tag
(
type: esriFieldTypeString, alias: Tag, length: 100
)
-
GroupName
(
type: esriFieldTypeString, alias: GroupName, length: 100
)
-
ProductName
(
type: esriFieldTypeString, alias: ProductName, length: 100
)
-
CenterX
(
type: esriFieldTypeDouble, alias: CenterX
)
-
CenterY
(
type: esriFieldTypeDouble, alias: CenterY
)
-
ZOrder
(
type: esriFieldTypeInteger, alias: ZOrder
)
-
Shape_Length
(
type: esriFieldTypeDouble, alias: Shape_Length
)
-
Shape_Area
(
type: esriFieldTypeDouble, alias: Shape_Area
)
Default Mosaic Method: Northwest
Allowed Mosaic Methods: NorthWest,Center,LockRaster,ByAttribute,Nadir,Viewpoint,Seamline,None
SortField:
SortValue: null
Mosaic Operator: First
Default Compression Quality: 75
Default Resampling Method: Bilinear
Max Record Count: 1000
Max Image Height: 4100
Max Image Width: 15000
Max Download Image Count: 20
Max Mosaic Image Count: 20
Allow Raster Function: true
Allow Copy: true
Allow Analysis: true
Allow Compute TiePoints: false
Supports Statistics: true
Supports Advanced Queries: true
Use StandardizedQueries: true
Raster Type Infos:
Name: Raster Dataset
Description: Supports all ArcGIS Raster Datasets
Help:
Has Raster Attribute Table: false
Edit Fields Info: null
Ownership Based AccessControl For Rasters: null
Child Resources:
Info
Histograms
Statistics
Key Properties
Legend
Raster Function Infos
Supported Operations:
Export Image
Query
Identify
Measure
Compute Histograms
Compute Statistics Histograms
Get Samples
Compute Class Statistics
Query Boundary
Compute Pixel Location
Compute Angles
Validate
Project