View In:
ArcGIS JavaScript
ArcGIS Online Map Viewer
ArcGIS Earth
ArcMap
View Footprint In:
ArcGIS Online Map Viewer
Service Description: This data set contains imagery from the National Agriculture
Imagery Program (NAIP). NAIP acquires digital ortho imagery
during the agricultural growing seasons in the continental U.S..
A primary goal of the NAIP program is to enable availability of
of ortho imagery within one year of acquisition. NAIP provides
four main products: 1 meter ground sample distance (GSD) ortho
imagery rectified to a horizontal accuracy of within +/- 5
meters of reference digital ortho quarter quads (DOQQ's) from
the National Digital Ortho Program (NDOP); 2 meter GSD
ortho imagery rectified to within +/- 10 meters of reference
DOQQs; 1 meter GSD ortho imagery rectified to within +/- 6
meters to true ground; and, 2 meter GSD ortho imagery rectified
to within +/- 10 meters to true ground. The tiling format of
NAIP imagery is based on a 3.75' x 3.75' quarter quadrangle
with a 300 meter buffer on all four sides. NAIP quarter quads
are formatted to the UTM coordinate system using NAD83. NAIP
imagery may contain as much as 10% cloud cover per tile.
This file was generated by compressing NAIP quarter quadrangle
tiles that cover a county. MrSID compression, with mosaic
option, was used. Target values for the compression ratio
are (15:1) and maximum number of compression levels are used.
Name: AerialPhotography/2008AirPhotoFSA1Meter
Description: This data set contains imagery from the National Agriculture
Imagery Program (NAIP). NAIP acquires digital ortho imagery
during the agricultural growing seasons in the continental U.S..
A primary goal of the NAIP program is to enable availability of
of ortho imagery within one year of acquisition. NAIP provides
four main products: 1 meter ground sample distance (GSD) ortho
imagery rectified to a horizontal accuracy of within +/- 5
meters of reference digital ortho quarter quads (DOQQ's) from
the National Digital Ortho Program (NDOP); 2 meter GSD
ortho imagery rectified to within +/- 10 meters of reference
DOQQs; 1 meter GSD ortho imagery rectified to within +/- 6
meters to true ground; and, 2 meter GSD ortho imagery rectified
to within +/- 10 meters to true ground. The tiling format of
NAIP imagery is based on a 3.75' x 3.75' quarter quadrangle
with a 300 meter buffer on all four sides. NAIP quarter quads
are formatted to the UTM coordinate system using NAD83. NAIP
imagery may contain as much as 10% cloud cover per tile.
This file was generated by compressing NAIP quarter quadrangle
tiles that cover a county. MrSID compression, with mosaic
option, was used. Target values for the compression ratio
are (15:1) and maximum number of compression levels are used.
Single Fused Map Cache: false
Extent:
XMin: 469952
YMin: 4920165
XMax: 525091
YMax: 4976338
Spatial Reference: 26915
(26915)
Initial Extent:
XMin: 469952
YMin: 4920165
XMax: 525091
YMax: 4976338
Spatial Reference: 26915
(26915)
Full Extent:
XMin: 469952
YMin: 4920165
XMax: 525091
YMax: 4976338
Spatial Reference: 26915
(26915)
Pixel Size X: 1.0
Pixel Size Y: 1.0
Band Count: 4
Pixel Type: U8
RasterFunction Infos: {"rasterFunctionInfos": [{
"name": "None",
"description": "",
"help": ""
}]}
Mensuration Capabilities: Basic
Has Histograms: false
Has Colormap: false
Has Multi Dimensions : false
Rendering Rule:
Min Scale: 0
Max Scale: 0
Copyright Text:
Service Data Type: esriImageServiceDataTypeGeneric
Min Values: N/A
Max Values: N/A
Mean Values: N/A
Standard Deviation Values: N/A
Object ID Field:
Fields:
None
Default Mosaic Method: Center
Allowed Mosaic Methods:
SortField:
SortValue: null
Mosaic Operator: First
Default Compression Quality: 75
Default Resampling Method: Bilinear
Max Record Count: null
Max Image Height: 4100
Max Image Width: 15000
Max Download Image Count: null
Max Mosaic Image Count: null
Allow Raster Function: true
Allow Copy: true
Allow Analysis: true
Allow Compute TiePoints: false
Supports Statistics: false
Supports Advanced Queries: false
Use StandardizedQueries: true
Raster Type Infos:
Name: Raster Dataset
Description: Supports all ArcGIS Raster Datasets
Help:
Has Raster Attribute Table: false
Edit Fields Info: null
Ownership Based AccessControl For Rasters: null
Child Resources:
Info
Statistics
Key Properties
Legend
Raster Function Infos
Supported Operations:
Export Image
Identify
Measure
Compute Histograms
Compute Statistics Histograms
Get Samples
Compute Class Statistics
Query Boundary
Compute Pixel Location
Compute Angles
Validate
Project