View In:
ArcGIS JavaScript
ArcGIS Online Map Viewer
ArcGIS Earth
ArcMap
View Footprint In:
ArcGIS Online Map Viewer
Service Description: 1997 Air Photo Leaf-Off 0.6 Meter
Name: AerialPhotography/1997AirPhotoLeafOff6TenthsMeter
Description: 1997 Air Photo Leaf-Off 0.6 Meter
Single Fused Map Cache: false
Extent:
XMin: 484778.4535687456
YMin: 87443.01580537931
XMax: 663818.4535687456
YMax: 292691.0158053793
Spatial Reference: PROJCS["MN_Dakota_Lambert_Conformal_Conic",GEOGCS["GCS_MN_Dakota",DATUM["D_MN_Dakota",SPHEROID["MN_Dakota",6378421.989,298.2572133677353]],PRIMEM["Greenwich",0.0],UNIT["Degree",0.0174532925199433]],PROJECTION["Lambert_Conformal_Conic"],PARAMETER["False_Easting",500000.0],PARAMETER["False_Northing",100000.0],PARAMETER["Central_Meridian",-93.31666666666666],PARAMETER["Standard_Parallel_1",44.51666666666667],PARAMETER["Standard_Parallel_2",44.91666666666666],PARAMETER["Latitude_Of_Origin",44.47194444444445],UNIT["Foot_US",0.3048006096012192]]
Initial Extent:
XMin: 484778.4535687456
YMin: 87443.01580537931
XMax: 663818.4535687456
YMax: 292691.0158053793
Spatial Reference: PROJCS["MN_Dakota_Lambert_Conformal_Conic",GEOGCS["GCS_MN_Dakota",DATUM["D_MN_Dakota",SPHEROID["MN_Dakota",6378421.989,298.2572133677353]],PRIMEM["Greenwich",0.0],UNIT["Degree",0.0174532925199433]],PROJECTION["Lambert_Conformal_Conic"],PARAMETER["False_Easting",500000.0],PARAMETER["False_Northing",100000.0],PARAMETER["Central_Meridian",-93.31666666666666],PARAMETER["Standard_Parallel_1",44.51666666666667],PARAMETER["Standard_Parallel_2",44.91666666666666],PARAMETER["Latitude_Of_Origin",44.47194444444445],UNIT["Foot_US",0.3048006096012192]]
Full Extent:
XMin: 484778.4535687456
YMin: 87443.01580537931
XMax: 663818.4535687456
YMax: 292691.0158053793
Spatial Reference: PROJCS["MN_Dakota_Lambert_Conformal_Conic",GEOGCS["GCS_MN_Dakota",DATUM["D_MN_Dakota",SPHEROID["MN_Dakota",6378421.989,298.2572133677353]],PRIMEM["Greenwich",0.0],UNIT["Degree",0.0174532925199433]],PROJECTION["Lambert_Conformal_Conic"],PARAMETER["False_Easting",500000.0],PARAMETER["False_Northing",100000.0],PARAMETER["Central_Meridian",-93.31666666666666],PARAMETER["Standard_Parallel_1",44.51666666666667],PARAMETER["Standard_Parallel_2",44.91666666666666],PARAMETER["Latitude_Of_Origin",44.47194444444445],UNIT["Foot_US",0.3048006096012192]]
Pixel Size X: 2.0000000000000004
Pixel Size Y: 2.0
Band Count: 1
Pixel Type: U8
RasterFunction Infos: {"rasterFunctionInfos": [{
"name": "None",
"description": "",
"help": ""
}]}
Mensuration Capabilities: Basic
Has Histograms: true
Has Colormap: false
Has Multi Dimensions : false
Rendering Rule:
Min Scale: 0
Max Scale: 0
Copyright Text:
Service Data Type: esriImageServiceDataTypeGeneric
Min Values: 27
Max Values: 255
Mean Values: 141.27607675906
Standard Deviation Values: 65.403361223848
Object ID Field:
Fields:
None
Default Mosaic Method: Center
Allowed Mosaic Methods:
SortField:
SortValue: null
Mosaic Operator: First
Default Compression Quality: 75
Default Resampling Method: Bilinear
Max Record Count: null
Max Image Height: 4100
Max Image Width: 15000
Max Download Image Count: null
Max Mosaic Image Count: null
Allow Raster Function: true
Allow Copy: true
Allow Analysis: true
Allow Compute TiePoints: false
Supports Statistics: false
Supports Advanced Queries: false
Use StandardizedQueries: true
Raster Type Infos:
Name: Raster Dataset
Description: Supports all ArcGIS Raster Datasets
Help:
Has Raster Attribute Table: true
Edit Fields Info: null
Ownership Based AccessControl For Rasters: null
Child Resources:
Info
Raster Attribute Table
Histograms
Statistics
Key Properties
Legend
Raster Function Infos
Supported Operations:
Export Image
Identify
Measure
Compute Histograms
Compute Statistics Histograms
Get Samples
Compute Class Statistics
Query Boundary
Compute Pixel Location
Compute Angles
Validate
Project