View In:
  ArcGIS JavaScript
  ArcGIS Online Map Viewer
  ArcGIS Earth
Service Description:  The 1970 Air Photo (September 11, 1970) of unknown origin was created by scanning enlargements and georeferencing them to their respective locations. The individual images were then assembled in an Esri mosaic dataset removing any framing from the original images to create a more aesthetically pleasing dataset to view.
Name:  AerialPhotography/1970AirPhotoLeafOn
Description:  The 1970 Air Photo (September 11, 1970) of unknown origin was created by scanning enlargements and georeferencing them to their respective locations. The individual images were then assembled in an Esri mosaic dataset removing any framing from the original images to create a more aesthetically pleasing dataset to view.
Single Fused Map Cache:  false
Extent: 
XMin: -9.21122613362968E-4
YMin: 2.179425209760666E-4
XMax: 523354.74241221073
YMax: 4974623.936884609
Spatial Reference: 26915
 (26915)
Initial Extent:
XMin: -9.21122613362968E-4
YMin: 2.179425209760666E-4
XMax: 523354.74241221073
YMax: 4974623.936884609
Spatial Reference: 26915
 (26915)
Full Extent:
XMin: -9.21122613362968E-4
YMin: 2.179425209760666E-4
XMax: 523354.74241221073
YMax: 4974623.936884609
Spatial Reference: 26915
 (26915)
Pixel Size X: 0.0033333333333333335
Pixel Size Y:  0.003333333333333333
Band Count: 3
Pixel Type: U8
RasterFunction Infos:  {"rasterFunctionInfos": [{
 "name": "None",
 "description": "",
 "help": ""
}]}
Mensuration Capabilities: None
Inspection Capabilities: 
Has Histograms:  true
Has Colormap:  false
Has Multi Dimensions :  false
Rendering Rule: 
Min Scale:  0
Max Scale:  0
Copyright Text:  
Service Data Type:  esriImageServiceDataTypeRGB
Min Values:  0, 0, 0
Max Values:  255, 255, 255
Mean Values:  103.83530020986073, 103.16611573358459, 100.85210594008392
Standard Deviation Values:  54.43814253569881, 54.10481088143176, 53.61202670464821
Object ID Field:  OBJECTID
Fields: 
- 
OBJECTID
(
type: esriFieldTypeOID, alias: OBJECTID
)
- 
Shape
(
type: esriFieldTypeGeometry, alias: Shape
)
- 
Name
(
type: esriFieldTypeString, alias: Name, length: 200
)
- 
MinPS
(
type: esriFieldTypeDouble, alias: MinPS
)
- 
MaxPS
(
type: esriFieldTypeDouble, alias: MaxPS
)
- 
LowPS
(
type: esriFieldTypeDouble, alias: LowPS
)
- 
HighPS
(
type: esriFieldTypeDouble, alias: HighPS
)
- 
Category
(
type: esriFieldTypeInteger, alias: Category
, Coded Values: 
[0: Unknown]
, [1: Primary]
, [2: Overview]
, ...5 more...
)
- 
Tag
(
type: esriFieldTypeString, alias: Tag, length: 100
)
- 
GroupName
(
type: esriFieldTypeString, alias: GroupName, length: 100
)
- 
ProductName
(
type: esriFieldTypeString, alias: ProductName, length: 100
)
- 
CenterX
(
type: esriFieldTypeDouble, alias: CenterX
)
- 
CenterY
(
type: esriFieldTypeDouble, alias: CenterY
)
- 
ZOrder
(
type: esriFieldTypeInteger, alias: ZOrder
)
- 
Shape_Length
(
type: esriFieldTypeDouble, alias: Shape_Length
)
- 
Shape_Area
(
type: esriFieldTypeDouble, alias: Shape_Area
)
Default Mosaic Method: Northwest
Allowed Mosaic Methods:  NorthWest,Center,LockRaster,ByAttribute,Nadir,Viewpoint,Seamline,None
SortField:  
SortValue:  null
Mosaic Operator:  First
Default Compression Quality:  75
Default Resampling Method:  Bilinear
Max Record Count:  1000
Max Image Height:  4100
Max Image Width:  15000
Max Download Image Count:  20
Max Mosaic Image Count:  20
Allow Raster Function:  true
Allow Copy:  true
Allow Analysis:  true
Allow Compute TiePoints:  false
Supports Statistics:  true
Supports Advanced Queries:  true
Use StandardizedQueries:  true
Raster Type Infos: 
Name: Raster Dataset
Description: Supports all ArcGIS Raster Datasets
Help: 
Has Raster Attribute Table: false
Edit Fields Info:  null
Ownership Based AccessControl For Rasters:  null
Child Resources:
  
Info
  Histograms
  Statistics
  Key Properties
  Legend
  Raster Function Infos
Supported Operations:
  
Export Image
  Query
  Identify
  Compute Histograms
  Compute Statistics Histograms
  Get Samples
  Compute Class Statistics
  Query GPS Info
  Find Images
  Image to Map
  Map to Image
  Measure from Image
  Image to Map Multiray
  Query Boundary
  Compute Pixel Location
  Compute Angles
  Validate
  Project