{ "currentVersion": 11.2, "serviceDescription": "
Low level (6-inch) aerial photography for Dakota County, MN flown in Spring 2026. Tested 0.371 feet horizontal accuracy at 95% confidence level. (Points independent of those used by vendor.)<\/span><\/p> <\/span><\/p> <\/div><\/div><\/div>",
"name": "AerialPhotography/2026AirPhotoLeafOff6Inch_Spring",
"description": " Low level (6-inch) aerial photography for Dakota County, MN flown in Spring 2026. Tested 0.371 feet horizontal accuracy at 95% confidence level. (Points independent of those used by vendor.)<\/span><\/p> <\/span><\/p> <\/div><\/div><\/div>",
"extent": {
"xmin": 472595.7528,
"ymin": 4922902.066800006,
"xmax": 522576.70439998683,
"ymax": 4975753.167599992,
"spatialReference": {
"wkid": 26915,
"latestWkid": 26915
}
},
"initialExtent": {
"xmin": 472595.7528,
"ymin": 4922902.066800006,
"xmax": 522576.70439998683,
"ymax": 4975753.167599992,
"spatialReference": {
"wkid": 26915,
"latestWkid": 26915
}
},
"fullExtent": {
"xmin": 472595.7528,
"ymin": 4922902.066800006,
"xmax": 522576.70439998683,
"ymax": 4975753.167599992,
"spatialReference": {
"wkid": 26915,
"latestWkid": 26915
}
},
"sortableFields": "MinPS,MaxPS,LowPS,HighPS,CenterX,CenterY,ZOrder,Shape_Length,Shape_Area",
"bandCount": 3,
"pixelType": "U8",
"minValues": [
0,
0,
0
],
"maxValues": [
255,
255,
255
],
"meanValues": [
96.77767429130004,
102.86951935034502,
95.6515715181586
],
"stdvValues": [
40.59321810690633,
39.177639014668586,
35.49824867233782
],
"hasMultidimensions": false,
"pixelSizeX": 0.1523999999999598,
"pixelSizeY": 0.1523999999999601,
"meanPixelSize": 0.15239999999995996,
"datasetFormat": "AMD",
"uncompressedSize": 341200672584,
"blockWidth": 2048,
"blockHeight": 256,
"compressionType": "None",
"bandNames": [
"Band_1",
"Band_2",
"Band_3"
],
"allowCopy": true,
"allowAnalysis": true,
"itemAccess": false,
"inspectionCapabilities": "",
"minPixelSize": 0,
"maxPixelSize": 0,
"copyrightText": "Nearmap, Inc",
"serviceDataType": "esriImageServiceDataTypeRGB",
"serviceSourceType": "esriImageServiceSourceTypeMosaicDataset",
"objectIdField": "OBJECTID",
"fields": [
{
"name": "OBJECTID",
"type": "esriFieldTypeOID",
"alias": "OBJECTID",
"domain": null
},
{
"name": "Shape",
"type": "esriFieldTypeGeometry",
"alias": "Shape",
"domain": null
},
{
"name": "Name",
"type": "esriFieldTypeString",
"alias": "Name",
"domain": null,
"length": 200
},
{
"name": "MinPS",
"type": "esriFieldTypeDouble",
"alias": "MinPS",
"domain": null
},
{
"name": "MaxPS",
"type": "esriFieldTypeDouble",
"alias": "MaxPS",
"domain": null
},
{
"name": "LowPS",
"type": "esriFieldTypeDouble",
"alias": "LowPS",
"domain": null
},
{
"name": "HighPS",
"type": "esriFieldTypeDouble",
"alias": "HighPS",
"domain": null
},
{
"name": "Category",
"type": "esriFieldTypeInteger",
"alias": "Category",
"domain": {
"type": "codedValue",
"name": "MosaicCatalogItemCategoryDomain",
"description": "Catalog item categories.",
"codedValues": [
{
"name": "Unknown",
"code": 0
},
{
"name": "Primary",
"code": 1
},
{
"name": "Overview",
"code": 2
},
{
"name": "Unprocessed Overview",
"code": 3
},
{
"name": "Partial Overview",
"code": 4
},
{
"name": "Inactive",
"code": 5
},
{
"name": "Uploaded",
"code": 253
},
{
"name": "Incomplete",
"code": 254
},
{
"name": "Custom",
"code": 255
}
],
"mergePolicy": "esriMPTDefaultValue",
"splitPolicy": "esriSPTDefaultValue"
}
},
{
"name": "Tag",
"type": "esriFieldTypeString",
"alias": "Tag",
"domain": null,
"length": 100
},
{
"name": "GroupName",
"type": "esriFieldTypeString",
"alias": "GroupName",
"domain": null,
"length": 100
},
{
"name": "ProductName",
"type": "esriFieldTypeString",
"alias": "ProductName",
"domain": null,
"length": 100
},
{
"name": "CenterX",
"type": "esriFieldTypeDouble",
"alias": "CenterX",
"domain": null
},
{
"name": "CenterY",
"type": "esriFieldTypeDouble",
"alias": "CenterY",
"domain": null
},
{
"name": "ZOrder",
"type": "esriFieldTypeInteger",
"alias": "ZOrder",
"domain": null
},
{
"name": "Shape_Length",
"type": "esriFieldTypeDouble",
"alias": "Shape_Length",
"domain": null
},
{
"name": "Shape_Area",
"type": "esriFieldTypeDouble",
"alias": "Shape_Area",
"domain": null
}
],
"capabilities": "Catalog,Download,Image,Metadata",
"defaultMosaicMethod": "Northwest",
"allowedMosaicMethods": "NorthWest,Center,LockRaster,ByAttribute,Nadir,Viewpoint,Seamline,None",
"sortField": "",
"sortValue": null,
"sortAscending": true,
"mosaicOperator": "First",
"maxDownloadSizeLimit": 2048,
"defaultCompressionQuality": 75,
"defaultResamplingMethod": "Bilinear",
"maxImageHeight": 4100,
"maxImageWidth": 15000,
"maxRecordCount": 1000,
"maxDownloadImageCount": 20,
"maxMosaicImageCount": 20,
"singleFusedMapCache": true,
"tileInfo": {
"rows": 256,
"cols": 256,
"dpi": 96,
"format": "MIXED",
"compressionQuality": 75,
"origin": {
"x": -5120900,
"y": 9998100
},
"spatialReference": {
"wkid": 26915,
"latestWkid": 26915
},
"lods": [
{
"level": 0,
"resolution": 81.28016256032512,
"scale": 307200
},
{
"level": 1,
"resolution": 40.64008128016256,
"scale": 153600
},
{
"level": 2,
"resolution": 20.32004064008128,
"scale": 76800
},
{
"level": 3,
"resolution": 10.16002032004064,
"scale": 38400
},
{
"level": 4,
"resolution": 5.08001016002032,
"scale": 19200
},
{
"level": 5,
"resolution": 2.54000508001016,
"scale": 9600
},
{
"level": 6,
"resolution": 1.27000254000508,
"scale": 4800
},
{
"level": 7,
"resolution": 0.63500127000254,
"scale": 2400
},
{
"level": 8,
"resolution": 0.31750063500127,
"scale": 1200
},
{
"level": 9,
"resolution": 0.158750317500635,
"scale": 600
}
]
},
"storageInfo": {
"storageFormat": "esriMapCacheStorageModeCompactV2",
"packetSize": 128
},
"cacheType": "Map",
"allowRasterFunction": true,
"rasterFunctionInfos": [
{
"name": "RGBDefault_6Inch",
"description": "RGBDefault",
"help": ""
},
{
"name": "Greyscale_6Inch",
"description": "Greyscale",
"help": ""
},
{
"name": "None",
"description": "Make a Raster or Raster Dataset into a Function Raster Dataset.",
"help": ""
}
],
"rasterTypeInfos": [
{
"name": "Raster Dataset",
"description": "Supports all ArcGIS Raster Datasets",
"help": ""
}
],
"mensurationCapabilities": "None",
"hasHistograms": true,
"hasColormap": false,
"hasRasterAttributeTable": false,
"minScale": 0,
"maxScale": 0,
"minLOD": 0,
"maxLOD": 9,
"exportTilesAllowed": true,
"maxExportTilesCount": 100000,
"supportsStatistics": true,
"supportsAdvancedQueries": true,
"editFieldsInfo": null,
"ownershipBasedAccessControlForRasters": null,
"allowComputeTiePoints": false,
"useStandardizedQueries": true,
"advancedQueryCapabilities": {
"useStandardizedQueries": true,
"supportsStatistics": true,
"supportsOrderBy": true,
"supportsDistinct": true,
"supportsPagination": true
},
"spatialReference": {
"wkid": 26915,
"latestWkid": 26915
},
"resampling": true
}