<?xml version="1.0" encoding="UTF-8" standalone="no"?>
<metadata xml:lang="en">
<Esri>
<CreaDate>20260519</CreaDate>
<CreaTime>11502400</CreaTime>
<ArcGISFormat>1.0</ArcGISFormat>
<SyncOnce>FALSE</SyncOnce>
<DataProperties>
<lineage>
<Process Date="20260519" Name="" Time="115024" ToolSource="c:\program files\arcgis\pro\Resources\ArcToolbox\toolboxes\Data Management Tools.tbx\CreateMosaicDataset" export="">CreateMosaicDataset E:\Orthos\2026\LeafOff_Spring\FGDB\LeafOff_2026_Spring_6Inch.gdb LeafOff_2026_Spring_6Inch PROJCS["NAD_1983_UTM_Zone_15N",GEOGCS["GCS_North_American_1983",DATUM["D_North_American_1983",SPHEROID["GRS_1980",6378137.0,298.257222101]],PRIMEM["Greenwich",0.0],UNIT["Degree",0.0174532925199433]],PROJECTION["Transverse_Mercator"],PARAMETER["False_Easting",500000.0],PARAMETER["False_Northing",0.0],PARAMETER["Central_Meridian",-93.0],PARAMETER["Scale_Factor",0.9996],PARAMETER["Latitude_Of_Origin",0.0],UNIT["Meter",1.0]] # "8-bit unsigned" None #</Process>
<Process Date="20260519" Name="" Time="124531" ToolSource="c:\program files\arcgis\pro\Resources\ArcToolbox\toolboxes\Data Management Tools.tbx\AddRastersToMosaicDataset" export="">AddRastersToMosaicDataset E:\Orthos\2026\LeafOff_Spring\FGDB\LeafOff_2026_Spring_6Inch.gdb\LeafOff_2026_Spring_6Inch "Raster Dataset" C:\Orthos\2025\LeafOn_Fall\Tiles\6Inch UPDATE_CELL_SIZES UPDATE_BOUNDARY UPDATE_OVERVIEWS # 0 1500 # # SUBFOLDERS "Allow duplicates" NO_PYRAMIDS NO_STATISTICS NO_THUMBNAILS # NO_FORCE_SPATIAL_REFERENCE NO_STATISTICS # NO_PIXEL_CACHE C:\Users\JSNM5\AppData\Local\ESRI\rasterproxies\LeafOff_2026_Spring_6Inch</Process>
<Process Date="20260519" Name="" Time="171129" ToolSource="c:\program files\arcgis\pro\Resources\ArcToolbox\toolboxes\Data Management Tools.tbx\AddRastersToMosaicDataset" export="">AddRastersToMosaicDataset E:\Orthos\2026\LeafOff_Spring\FGDB\LeafOff_2026_Spring_6Inch.gdb\LeafOff_2026_Spring_6Inch "Raster Dataset" E:\Orthos\2026\LeafOff_Spring\Tiles\6Inch UPDATE_CELL_SIZES UPDATE_BOUNDARY UPDATE_OVERVIEWS # 0 1500 # # SUBFOLDERS "Allow duplicates" NO_PYRAMIDS NO_STATISTICS NO_THUMBNAILS # NO_FORCE_SPATIAL_REFERENCE NO_STATISTICS # NO_PIXEL_CACHE C:\Users\JSNM5\AppData\Local\ESRI\rasterproxies\LeafOff_2026_Spring_6Inch</Process>
</lineage>
<itemProps>
<itemName Sync="TRUE">LeafOff_2026_Spring_6Inch</itemName>
<itemLocation>
<linkage Sync="TRUE">file://\\SN3N22ZS3\E$\Orthos\2026\LeafOff_Spring\FGDB\LeafOff_2026_Spring_6Inch.gdb</linkage>
<protocol Sync="TRUE">Local Area Network</protocol>
</itemLocation>
<nativeExtBox>
<westBL Sync="TRUE">472595.752800</westBL>
<eastBL Sync="TRUE">522576.704400</eastBL>
<southBL Sync="TRUE">4922902.066800</southBL>
<northBL Sync="TRUE">4975753.167600</northBL>
<exTypeCode Sync="TRUE">1</exTypeCode>
</nativeExtBox>
<imsContentType export="False"/>
</itemProps>
<coordRef>
<type Sync="TRUE">Projected</type>
<geogcsn Sync="TRUE">GCS_North_American_1983</geogcsn>
<csUnits Sync="TRUE">Linear Unit: Meter (1.000000)</csUnits>
<projcsn Sync="TRUE">NAD_1983_UTM_Zone_15N</projcsn>
<peXml Sync="TRUE">&lt;ProjectedCoordinateSystem xsi:type='typens:ProjectedCoordinateSystem' xmlns:xsi='http://www.w3.org/2001/XMLSchema-instance' xmlns:xs='http://www.w3.org/2001/XMLSchema' xmlns:typens='http://www.esri.com/schemas/ArcGIS/3.2.0'&gt;&lt;WKT&gt;PROJCS[&amp;quot;NAD_1983_UTM_Zone_15N&amp;quot;,GEOGCS[&amp;quot;GCS_North_American_1983&amp;quot;,DATUM[&amp;quot;D_North_American_1983&amp;quot;,SPHEROID[&amp;quot;GRS_1980&amp;quot;,6378137.0,298.257222101]],PRIMEM[&amp;quot;Greenwich&amp;quot;,0.0],UNIT[&amp;quot;Degree&amp;quot;,0.0174532925199433]],PROJECTION[&amp;quot;Transverse_Mercator&amp;quot;],PARAMETER[&amp;quot;False_Easting&amp;quot;,500000.0],PARAMETER[&amp;quot;False_Northing&amp;quot;,0.0],PARAMETER[&amp;quot;Central_Meridian&amp;quot;,-93.0],PARAMETER[&amp;quot;Scale_Factor&amp;quot;,0.9996],PARAMETER[&amp;quot;Latitude_Of_Origin&amp;quot;,0.0],UNIT[&amp;quot;Meter&amp;quot;,1.0],AUTHORITY[&amp;quot;EPSG&amp;quot;,26915]]&lt;/WKT&gt;&lt;XOrigin&gt;-5120900&lt;/XOrigin&gt;&lt;YOrigin&gt;-9998100&lt;/YOrigin&gt;&lt;XYScale&gt;450445547.3910538&lt;/XYScale&gt;&lt;ZOrigin&gt;-100000&lt;/ZOrigin&gt;&lt;ZScale&gt;10000&lt;/ZScale&gt;&lt;MOrigin&gt;-100000&lt;/MOrigin&gt;&lt;MScale&gt;10000&lt;/MScale&gt;&lt;XYTolerance&gt;0.001&lt;/XYTolerance&gt;&lt;ZTolerance&gt;0.001&lt;/ZTolerance&gt;&lt;MTolerance&gt;0.001&lt;/MTolerance&gt;&lt;HighPrecision&gt;true&lt;/HighPrecision&gt;&lt;WKID&gt;26915&lt;/WKID&gt;&lt;LatestWKID&gt;26915&lt;/LatestWKID&gt;&lt;/ProjectedCoordinateSystem&gt;</peXml>
</coordRef>
<RasterProperties>
<General>
<PixelDepth Sync="TRUE">8</PixelDepth>
<HasColormap Sync="TRUE">FALSE</HasColormap>
<CompressionType Sync="TRUE">None</CompressionType>
<NumBands Sync="TRUE">3</NumBands>
<Format Sync="TRUE">AMD</Format>
<HasPyramids Sync="TRUE">TRUE</HasPyramids>
<SourceType Sync="TRUE">continuous</SourceType>
<PixelType Sync="TRUE">unsigned integer</PixelType>
<NoDataValue Sync="TRUE"/>
</General>
<Properties>
<MaxImageHeight Sync="TRUE">4100</MaxImageHeight>
<MaxImageWidth Sync="TRUE">15000</MaxImageWidth>
<MaxRecordCount Sync="TRUE">1000</MaxRecordCount>
<MaxDownloadImageCount Sync="TRUE">20</MaxDownloadImageCount>
<MaxDownloadSizeLimit Sync="TRUE">2048</MaxDownloadSizeLimit>
<MaxMosaicImageCount Sync="TRUE">20</MaxMosaicImageCount>
<DefaultCompressionQuality Sync="TRUE">75</DefaultCompressionQuality>
<DefaultCompressionTolerance Sync="TRUE">0.01</DefaultCompressionTolerance>
<BlendWidth Sync="TRUE">10</BlendWidth>
<ViewpointSpacingX Sync="TRUE">600</ViewpointSpacingX>
<ViewpointSpacingY Sync="TRUE">300</ViewpointSpacingY>
<AllowedItemMetadata Sync="TRUE">Basic</AllowedItemMetadata>
<DefaultResamplingMethod Sync="TRUE">1</DefaultResamplingMethod>
<AllowedMosaicMethods Sync="TRUE">NorthWest,Center,LockRaster,ByAttribute,Nadir,Viewpoint,Seamline,None</AllowedMosaicMethods>
<AllowedCompressions Sync="TRUE">None,JPEG,LZ77,LERC</AllowedCompressions>
<AllowedMensurationCapabilities Sync="TRUE">None</AllowedMensurationCapabilities>
<AvailableMensurationCapabilities Sync="TRUE">None,Basic,Base-Top Height,Top-Top Shadow Height,Base-Top Shadow Height,3D</AvailableMensurationCapabilities>
<ClipToBoundary Sync="TRUE">0</ClipToBoundary>
<FootprintMayContainNoData Sync="TRUE">-1</FootprintMayContainNoData>
<CellSizeTolerance Sync="TRUE">0.8</CellSizeTolerance>
<MinimumPixelContribution Sync="TRUE">1</MinimumPixelContribution>
<AvailableMosaicMethods Sync="TRUE">NorthWest,Center,LockRaster,ByAttribute,Nadir,Viewpoint,Seamline,None</AvailableMosaicMethods>
<AvailableCompressionMethods Sync="TRUE">None,JPEG,LZ77,LERC</AvailableCompressionMethods>
<AvailableItemMetadataLevels Sync="TRUE">None,Basic,Full</AvailableItemMetadataLevels>
<BandDefinitionKeyword Sync="TRUE">NONE</BandDefinitionKeyword>
<_docversion_ Sync="TRUE">10</_docversion_>
<AllowedFields Sync="TRUE">Name,MinPS,MaxPS,LowPS,HighPS,Tag,GroupName,ProductName,CenterX,CenterY,ZOrder,Shape_Length,Shape_Area</AllowedFields>
<MaxCellSize Sync="TRUE">16664.9399999968</MaxCellSize>
<LowCellSize Sync="TRUE">0.15239999999996</LowCellSize>
<HighCellSize Sync="TRUE">0.152399999999972</HighCellSize>
<TimeStamp.RemoveItems Sync="TRUE">46162.8902316204</TimeStamp.RemoveItems>
<TimeStamp.UpdateExtent Sync="TRUE">46162.8902374769</TimeStamp.UpdateExtent>
<ClipToFootprint Sync="TRUE">-1</ClipToFootprint>
</Properties>
<Functions Sync="TRUE">
<Function Description="Performs on-the-fly mosaic on a raster catalog." Name="Mosaic Function"/>
</Functions>
</RasterProperties>
</DataProperties>
<SyncDate>20260521</SyncDate>
<SyncTime>16403400</SyncTime>
<ModDate>20260521</ModDate>
<ModTime>16474700</ModTime>
<scaleRange>
<minScale>150000000</minScale>
<maxScale>5000</maxScale>
</scaleRange>
<ArcGISProfile>FGDC</ArcGISProfile>
</Esri>
<mdLang>
<languageCode value="eng"/>
<countryCode Sync="TRUE" value="USA"/>
</mdLang>
<mdChar>
<CharSetCd value="004"/>
</mdChar>
<mdHrLv>
<ScopeCd value="005"/>
</mdHrLv>
<mdContact>
<rpCntInfo>
<cntAddress addressType="both">
<eMailAdd>GIS@co.dakota.mn.us</eMailAdd>
<delPoint>14955 Galaxie Ave</delPoint>
<city>Apple Valley</city>
<adminArea>Minnesota</adminArea>
<postCode>55124</postCode>
<country>US</country>
</cntAddress>
<cntPhone>
<voiceNum>9528917000</voiceNum>
</cntPhone>
</rpCntInfo>
<role>
<RoleCd value="001"/>
</role>
<rpOrgName>Dakota County</rpOrgName>
<rpIndName>GIS Staff</rpIndName>
<rpPosName>GIS Staff</rpPosName>
</mdContact>
<mdDateSt Sync="FALSE">20261001</mdDateSt>
<mdTimeSt>09:00:00</mdTimeSt>
<distInfo>
<distTranOps>
<onLineSrc>
<linkage>https://gisimg.co.dakota.mn.us/arcgis/rest/services/AerialPhotography/2025AirPhotoLeafOff6Inch_Spring/ImageServer</linkage>
</onLineSrc>
</distTranOps>
<distributor>
<distorCont>
<rpIndName>GIS Staff</rpIndName>
<rpOrgName>Dakota County</rpOrgName>
<rpPosName>GIS Staff</rpPosName>
<role>
<RoleCd value="010"/>
</role>
<rpCntInfo>
<cntAddress addressType="both">
<eMailAdd>GIS@co.dakota.mn.us</eMailAdd>
<delPoint>14955 Galaxie Ave</delPoint>
<city>Apple Valley</city>
<adminArea>Minnesota</adminArea>
<postCode>55124</postCode>
<country>US</country>
</cntAddress>
<cntPhone>
<voiceNum>9528917000</voiceNum>
</cntPhone>
</rpCntInfo>
</distorCont>
</distributor>
</distInfo>
<dataIdInfo>
<idAbs>&lt;DIV STYLE="text-align:Left;"&gt;&lt;DIV&gt;&lt;DIV&gt;&lt;P&gt;&lt;SPAN STYLE="font-size:16pt"&gt;Low level (6-inch) aerial photography for Dakota County, MN flown in Spring 2026. Tested 0.371 feet horizontal accuracy at 95% confidence level. (Points independent of those used by vendor.)&lt;/SPAN&gt;&lt;/P&gt;&lt;P&gt;&lt;SPAN&gt; &lt;/SPAN&gt;&lt;/P&gt;&lt;P /&gt;&lt;/DIV&gt;&lt;/DIV&gt;&lt;/DIV&gt;</idAbs>
<idCitation>
<resTitle Sync="FALSE">2026AirPhotoLeafOff6Inch_Spring</resTitle>
<date>
<pubDate>2025-10-20T00:00:00</pubDate>
</date>
<citRespParty>
<role>
<RoleCd value="006"/>
</role>
<rpCntInfo>
<cntAddress addressType="both">
<eMailAdd>GIS@co.dakota.mn.us</eMailAdd>
<delPoint>14955 Galaxie Ave</delPoint>
<city>Apple Valley</city>
<adminArea>Minnesota</adminArea>
<postCode>55124</postCode>
<country>US</country>
</cntAddress>
<cntPhone>
<voiceNum>9528917000</voiceNum>
</cntPhone>
</rpCntInfo>
<rpOrgName>Dakota County</rpOrgName>
<rpIndName>GIS Staff</rpIndName>
<rpPosName>GIS Staff</rpPosName>
</citRespParty>
<citRespParty>
<role>
<RoleCd value="005"/>
</role>
<rpCntInfo>
<cntAddress addressType="both">
<eMailAdd>GIS@co.dakota.mn.us</eMailAdd>
<delPoint>14955 Galaxie Ave</delPoint>
<city>Apple Valley</city>
<adminArea>Minnesota</adminArea>
<postCode>55124</postCode>
<country>US</country>
</cntAddress>
<cntPhone>
<voiceNum>9528917000</voiceNum>
</cntPhone>
</rpCntInfo>
<rpOrgName>Dakota County</rpOrgName>
<rpIndName>GIS Staff</rpIndName>
<rpPosName>GIS Staff</rpPosName>
</citRespParty>
<citRespParty>
<role>
<RoleCd value="010"/>
</role>
<rpCntInfo>
<cntAddress addressType="both">
<eMailAdd>GIS@co.dakota.mn.us</eMailAdd>
<delPoint>14955 Galaxie Ave</delPoint>
<city>Apple Valley</city>
<adminArea>Minnesota</adminArea>
<postCode>55124</postCode>
<country>US</country>
</cntAddress>
<cntPhone>
<voiceNum>9528917000</voiceNum>
</cntPhone>
</rpCntInfo>
<rpOrgName>Dakota County</rpOrgName>
<rpIndName>GIS Staff</rpIndName>
<rpPosName>GIS Staff</rpPosName>
</citRespParty>
<presForm>
<PresFormCd Sync="TRUE" value="005"/>
</presForm>
</idCitation>
<dataExt>
<geoEle>
<GeoBndBox>
<westBL>-93.3479</westBL>
<eastBL>-92.7129</eastBL>
<northBL>44.9358</northBL>
<southBL>44.4582</southBL>
</GeoBndBox>
</geoEle>
</dataExt>
<dataExt>
<exDesc>Flown in Spring 2026. Flight date: April 16, 2026</exDesc>
<tempEle>
<TempExtent>
<exTemp>
<TM_Period>
<tmBegin>2025-04-05T00:00:00</tmBegin>
<tmEnd>2025-04-05T23:59:00</tmEnd>
</TM_Period>
</exTemp>
</TempExtent>
</tempEle>
</dataExt>
<searchKeys>
<keyword>Air Photo</keyword>
<keyword>Aerial Photography</keyword>
<keyword>Dakota County MN</keyword>
</searchKeys>
<themeKeys>
<keyword>Imagery</keyword>
<keyword>Aerial Photography</keyword>
<keyword>Air Photo</keyword>
<keyword>Raster</keyword>
</themeKeys>
<idPurp>Low level (6-inch) aerial photography for Dakota County, MN flown in Spring 2026. Tested 0.371 feet horizontal accuracy at 95% confidence level. (Points independent of those used by vendor.)</idPurp>
<idCredit>Nearmap, Inc</idCredit>
<resConst>
<Consts>
<useLimit>&lt;DIV STYLE="text-align:Left;"&gt;&lt;DIV&gt;&lt;DIV&gt;&lt;P&gt;&lt;SPAN&gt;This imagery is copyrighted and licensed by Nearmap US Inc, which retains ownership of the imagery. It is being provided by Dakota County under the terms of that license. Under that license, Dakota County is allowed to provide access to the “Offline Copy Add-On for Government”, on which this image services is based, at 6-inch resolution, six months after the capture date, provided the user acknowledges that the imagery will be used in their normal course of business and must not be resold or distributed for the purpose of direct commercial benefit or gain. By accessing this imagery, the user acknowledges these terms and affirms compliance. &lt;/SPAN&gt;&lt;A href="https://gisimg.co.dakota.mn.us/mrsid/base_aerialphotography_2020_sprg/Nearmap_DakotaCounty_SIGNED.pdf" STYLE="text-decoration:underline;"&gt;&lt;SPAN&gt;https://gisimg.co.dakota.mn.us/mrsid/base_aerialphotography_2020_sprg/Nearmap_DakotaCounty_SIGNED.pdf&lt;/SPAN&gt;&lt;/A&gt;&lt;/P&gt;&lt;/DIV&gt;&lt;/DIV&gt;&lt;/DIV&gt;</useLimit>
</Consts>
</resConst>
<resConst>
<LegConsts>
<accessConsts>
<RestrictCd value="008"/>
</accessConsts>
<useConsts>
<RestrictCd value="001"/>
</useConsts>
<othConsts>Dakota County GIS Database Disclaimer NOTICE: Dakota County Geographic Information System (GIS) Data are made available pursuant to the Minnesota Government Data Practices Act (Minnesota Statutes Chapter 13) THE GIS DATA ARE PROVIDED TO YOU AS IS AND WITHOUT ANY WARRANTY AS TO THEIR PERFORMANCE, MERCHANTABILITY, OR FITNESS FOR ANY PARTICULAR PURPOSE. The GIS Data were developed by Dakota County ("County") for their own internal business purposes. The County does not represent or warrant that the GIS Data or the data documentation are error-free, complete, current, or accurate. You are responsible for any consequences resulting from your use of the GIS Data or your reliance on the GIS Data. You should consult the data documentation for this particular GIS Data to determine the limitations of the GIS Data and the precision with which the GIS Data may depict distance, direction, location, or other geographic features. If you transmit or provide the GIS Data (or any portion of it) to another user, you must provide a copy of this disclaimer and the accompanying metadata for this dataset to the user.
This imagery is copyrighted and licensed by Nearmap US Inc, which retains ownership of the imagery. It is being provided by Dakota County under the terms of that license. It may be used for any purpose, excluding commercial purpose. Any third party must use this imagery in the ordinary course of their business and may not resell such imagery for the purpose of direct commercial benefit or gain. By accessing this imagery, the user acknowledges these terms and affirms compliance.</othConsts>
</LegConsts>
</resConst>
<dataChar>
<CharSetCd value="004"/>
</dataChar>
<idStatus>
<ProgCd value="001"/>
</idStatus>
<resMaint>
<maintFreq>
<MaintFreqCd value="011"/>
</maintFreq>
</resMaint>
<placeKeys>
<keyword>Apple Valley</keyword>
<keyword>Burnsville</keyword>
<keyword>Castle Rock Township</keyword>
<keyword>Coates</keyword>
<keyword>Douglas Township</keyword>
<keyword>Eagan</keyword>
<keyword>Empire</keyword>
<keyword>Farmington</keyword>
<keyword>Greenvale Township</keyword>
<keyword>Hampton</keyword>
<keyword>Hampton Township</keyword>
<keyword>Hastings</keyword>
<keyword>Inver Grove Heights</keyword>
<keyword>Lakeville</keyword>
<keyword>Lilydale</keyword>
<keyword>Marshan Township</keyword>
<keyword>Mendota</keyword>
<keyword>Mendota Heights</keyword>
<keyword>Miesville</keyword>
<keyword>New Trier</keyword>
<keyword>Nininger Township</keyword>
<keyword>Northfield</keyword>
<keyword>Randolph</keyword>
<keyword>Randolph Township</keyword>
<keyword>Ravenna Township</keyword>
<keyword>Rosemount</keyword>
<keyword>Sciota Township</keyword>
<keyword>South St. Paul</keyword>
<keyword>Sunfish lake</keyword>
<keyword>Vermillion</keyword>
<keyword>Vermillion Township</keyword>
<keyword>Waterford Township</keyword>
<keyword>West St. Paul</keyword>
<keyword>Dakota County</keyword>
</placeKeys>
<envirDesc Sync="TRUE">Microsoft Windows 10 Version 10.0 (Build 22631) ; Esri ArcGIS 13.2.2.49743</envirDesc>
<dataLang>
<languageCode Sync="TRUE" value="eng"/>
<countryCode Sync="TRUE" value="USA"/>
</dataLang>
<spatRpType>
<SpatRepTypCd Sync="TRUE" value="002"/>
</spatRpType>
<dataExt>
<geoEle>
<GeoBndBox esriExtentType="search">
<exTypeCode Sync="TRUE">1</exTypeCode>
<westBL Sync="TRUE">-93.347308</westBL>
<eastBL Sync="TRUE">-92.713873</eastBL>
<northBL Sync="TRUE">44.935211</northBL>
<southBL Sync="TRUE">44.458904</southBL>
</GeoBndBox>
</geoEle>
</dataExt>
<tpCat>
<TopicCatCd value="010"/>
</tpCat>
</dataIdInfo>
<dqInfo>
<dataLineage>
<statement>This service contains imagery from Spring 2026.</statement>
</dataLineage>
<report dimension="horizontal" type="DQQuanAttAcc">
<measResult>
<ConResult>
<conPass>1</conPass>
</ConResult>
</measResult>
<measDesc>Using NSSD methods this data tested 0.61 feet horizontal accuracy at 95% confidence level.</measDesc>
</report>
<report dimension="horizontal" type="DQAbsExtPosAcc">
<measResult>
<ConResult>
<conPass>1</conPass>
</ConResult>
</measResult>
<measDesc>Using NSSD methods this data tested 0.61 feet horizontal accuracy at 95% confidence level.</measDesc>
</report>
<report dimension="horizontal" type="DQCompOm">
<measResult>
<ConResult>
<conPass>1</conPass>
</ConResult>
</measResult>
<measDesc>Data is for Dakota County, Minnesota for the noted time period.</measDesc>
</report>
</dqInfo>
<eainfo>
<detailed>
<enttyp>
<enttypl>None</enttypl>
<enttypd>None</enttypd>
<enttypds>None</enttypds>
<enttypt>None</enttypt>
<enttypc>0</enttypc>
</enttyp>
</detailed>
<overview>
<eaover>None</eaover>
</overview>
</eainfo>
<refSysInfo>
<RefSystem>
<refSysID>
<identCode Sync="TRUE" code="26915"/>
<idCodeSpace Sync="TRUE">EPSG</idCodeSpace>
<idVersion Sync="TRUE">6.11(3.0.1)</idVersion>
</refSysID>
</RefSystem>
</refSysInfo>
<spatRepInfo>
<Georect>
<cellGeo>
<CellGeoCd Sync="TRUE" value="002"/>
</cellGeo>
<numDims Sync="TRUE">2</numDims>
<tranParaAv Sync="TRUE">1</tranParaAv>
<chkPtAv Sync="TRUE">0</chkPtAv>
<cornerPts>
<pos Sync="TRUE">472595.752800 4922902.066800</pos>
</cornerPts>
<cornerPts>
<pos Sync="TRUE">472595.752800 4975753.167600</pos>
</cornerPts>
<cornerPts>
<pos Sync="TRUE">522576.704400 4975753.167600</pos>
</cornerPts>
<cornerPts>
<pos Sync="TRUE">522576.704400 4922902.066800</pos>
</cornerPts>
<centerPt>
<pos Sync="TRUE">497586.228600 4949327.617200</pos>
</centerPt>
<axisDimension type="002">
<dimSize Sync="TRUE">327959</dimSize>
<dimResol>
<value Sync="TRUE" uom="m">0.152400</value>
</dimResol>
</axisDimension>
<axisDimension type="001">
<dimSize Sync="TRUE">346792</dimSize>
<dimResol>
<value Sync="TRUE" uom="m">0.152400</value>
</dimResol>
</axisDimension>
<ptInPixel>
<PixOrientCd Sync="TRUE" value="001"/>
</ptInPixel>
</Georect>
</spatRepInfo>
<contInfo>
<ImgDesc>
<contentTyp>
<ContentTypCd Sync="TRUE" value="001"/>
</contentTyp>
<covDim>
<Band>
<dimDescrp Sync="TRUE">Band_1</dimDescrp>
<maxVal Sync="TRUE">255.000000</maxVal>
<minVal Sync="TRUE">0.000000</minVal>
<bitsPerVal Sync="TRUE">8</bitsPerVal>
<valUnit>
<UOM gmlID="" type="length"/>
</valUnit>
</Band>
<Band>
<dimDescrp Sync="TRUE">Band_2</dimDescrp>
<maxVal Sync="TRUE">255.000000</maxVal>
<minVal Sync="TRUE">0.000000</minVal>
<bitsPerVal Sync="TRUE">8</bitsPerVal>
<valUnit>
<UOM gmlID="" type="length"/>
</valUnit>
</Band>
<Band>
<dimDescrp Sync="TRUE">Band_3</dimDescrp>
<maxVal Sync="TRUE">255.000000</maxVal>
<minVal Sync="TRUE">0.000000</minVal>
<bitsPerVal Sync="TRUE">8</bitsPerVal>
<valUnit>
<UOM gmlID="" type="length"/>
</valUnit>
</Band>
</covDim>
<trianInd>False</trianInd>
<radCalDatAv>False</radCalDatAv>
<camCalInAv>False</camCalInAv>
<filmDistInAv>False</filmDistInAv>
<lensDistInAv>False</lensDistInAv>
</ImgDesc>
</contInfo>
<mdMaint>
<maintFreq>
<MaintFreqCd value="011"/>
</maintFreq>
</mdMaint>
</metadata>
