{
 "currentVersion": 11.2,
 "serviceDescription": "This data set contains imagery from the National Agriculture\nImagery Program (NAIP). NAIP acquires digital ortho imagery\nduring the agricultural growing seasons in the continental U.S..\nA primary goal of the NAIP program is to enable availability of\nof ortho imagery within one year of acquisition. NAIP provides\nfour main products: 1 meter ground sample distance (GSD) ortho\nimagery rectified to a horizontal accuracy of within +/- 5\nmeters of reference digital ortho quarter quads (DOQQ's) from\nthe National Digital Ortho Program (NDOP); 2 meter GSD\northo imagery rectified to within +/- 10 meters of reference\nDOQQs; 1 meter GSD ortho imagery rectified to within +/- 6\nmeters to true ground; and, 2 meter GSD ortho imagery rectified\nto within +/- 10 meters to true ground. The tiling format of\nNAIP imagery is based on a 3.75' x 3.75' quarter quadrangle\nwith a 300 meter buffer on all four sides. NAIP quarter quads\nare formatted to the UTM coordinate system using NAD83. NAIP\nimagery may contain as much as 10% cloud cover per tile.\nThis file was generated by compressing NAIP quarter quadrangle\ntiles that cover a county. MrSID compression, with mosaic\noption, was used. Target values for the compression ratio\nare (15:1) and maximum number of compression levels are used.",
 "name": "AerialPhotography/2006AirPhotoFSA1Meter",
 "description": "This data set contains imagery from the National Agriculture\nImagery Program (NAIP). NAIP acquires digital ortho imagery\nduring the agricultural growing seasons in the continental U.S..\nA primary goal of the NAIP program is to enable availability of\nof ortho imagery within one year of acquisition. NAIP provides\nfour main products: 1 meter ground sample distance (GSD) ortho\nimagery rectified to a horizontal accuracy of within +/- 5\nmeters of reference digital ortho quarter quads (DOQQ's) from\nthe National Digital Ortho Program (NDOP); 2 meter GSD\northo imagery rectified to within +/- 10 meters of reference\nDOQQs; 1 meter GSD ortho imagery rectified to within +/- 6\nmeters to true ground; and, 2 meter GSD ortho imagery rectified\nto within +/- 10 meters to true ground. The tiling format of\nNAIP imagery is based on a 3.75' x 3.75' quarter quadrangle\nwith a 300 meter buffer on all four sides. NAIP quarter quads\nare formatted to the UTM coordinate system using NAD83. NAIP\nimagery may contain as much as 10% cloud cover per tile.\nThis file was generated by compressing NAIP quarter quadrangle\ntiles that cover a county. MrSID compression, with mosaic\noption, was used. Target values for the compression ratio\nare (15:1) and maximum number of compression levels are used.",
 "extent": {
  "xmin": 469942,
  "ymin": 4920156,
  "xmax": 525100,
  "ymax": 4976334,
  "spatialReference": {
   "wkid": 26915,
   "latestWkid": 26915
  }
 },
 "initialExtent": {
  "xmin": 469942,
  "ymin": 4920156,
  "xmax": 525100,
  "ymax": 4976334,
  "spatialReference": {
   "wkid": 26915,
   "latestWkid": 26915
  }
 },
 "fullExtent": {
  "xmin": 469942,
  "ymin": 4920156,
  "xmax": 525100,
  "ymax": 4976334,
  "spatialReference": {
   "wkid": 26915,
   "latestWkid": 26915
  }
 },
 "sortableFields": "",
 "bandCount": 3,
 "pixelType": "U8",
 "minValues": [
  0,
  0,
  0
 ],
 "maxValues": [
  188,
  200,
  168
 ],
 "meanValues": [
  73.634006734007,
  84.472390572391,
  69.822558922559
 ],
 "stdvValues": [
  56.269903819584,
  63.880318009269,
  52.76470062939
 ],
 "hasMultidimensions": false,
 "pixelSizeX": 2,
 "pixelSizeY": 2,
 "meanPixelSize": 2,
 "datasetFormat": "MrSID",
 "uncompressedSize": 2323999593,
 "blockWidth": 1024,
 "blockHeight": 128,
 "compressionType": "Wavelet (MG3)",
 "bandNames": [
  "Band_1",
  "Band_2",
  "Band_3"
 ],
 "allowCopy": true,
 "allowAnalysis": true,
 "itemAccess": false,
 "inspectionCapabilities": "",
 "minPixelSize": 0,
 "maxPixelSize": 0,
 "copyrightText": "",
 "serviceDataType": "esriImageServiceDataTypeRGB",
 "serviceSourceType": "esriImageServiceSourceTypeDataset",
 "objectIdField": "",
 "fields": [],
 "capabilities": "Image,Metadata,Mensuration",
 "defaultMosaicMethod": "Center",
 "allowedMosaicMethods": "",
 "sortField": "",
 "sortValue": null,
 "sortAscending": true,
 "mosaicOperator": "First",
 "defaultCompressionQuality": 75,
 "defaultResamplingMethod": "Bilinear",
 "maxImageHeight": 4100,
 "maxImageWidth": 15000,
 "allowRasterFunction": true,
 "rasterFunctionInfos": [
  {
   "name": "None",
   "description": "",
   "help": ""
  }
 ],
 "rasterTypeInfos": [
  {
   "name": "Raster Dataset",
   "description": "Supports all ArcGIS Raster Datasets",
   "help": ""
  }
 ],
 "mensurationCapabilities": "Basic",
 "hasHistograms": true,
 "hasColormap": false,
 "hasRasterAttributeTable": false,
 "minScale": 0,
 "maxScale": 0,
 "exportTilesAllowed": false,
 "supportsStatistics": false,
 "supportsAdvancedQueries": false,
 "editFieldsInfo": null,
 "ownershipBasedAccessControlForRasters": null,
 "allowComputeTiePoints": false,
 "useStandardizedQueries": true,
 "advancedQueryCapabilities": {
  "useStandardizedQueries": true,
  "supportsStatistics": false,
  "supportsOrderBy": false,
  "supportsDistinct": false,
  "supportsPagination": false
 },
 "spatialReference": {
  "wkid": 26915,
  "latestWkid": 26915
 }
}
