{
 "currentVersion": 11.2,
 "serviceDescription": "This data set contains imagery from the National Agricultural\nImagery Program (NAIP). NAIP acquires digital ortho imagery\nduring the agricultural growing seasons in the continental U.S..\nA primary goal of the NAIP program is to enable availabilty of\northo imagery within a year of acquisition. NAIP provides two\nmain products: 1 meter ground sample distance (GSD) ortho\nimagery rectified to a horizontal accuracy of within +/- 5\nmeters of reference digital ortho quarter quads (DOQQS) from\nthe National Digital Ortho Program (NDOP); and, 2 meter GSD\northo imagery rectified to within +/- 10 meters of reference\nDOQQs.\nThe tiling format of NAIP imagery is based on a 3.75' x 3.75'\nquarter quadrangle with a 300 meter buffer on all four sides.\nNAIP quarter quads are rectified to the UTM coordinate\nsystem NAD83 and cast into a single predetermined UTM zone.\nNAIP imagery can obtain as much as 10% cloud cover per tile.\nThis file was generated by compressing NAIP digital quarter\nquadrangle image tiles either natural color positive or color\ninfrared positive source imagery into a single mosaic. The\nmosaic may cover all or portions of an individual county.\nMrSid software compression, with mosaic option, was used to\ncreate the final product. Target values for the compression\nratio are (15:1) and the maximum N-levels are used.\nAll digital products and the underlying source images were\nproduced through the National Agriculture Imagery Program (NAIP).\nThe primary purpose of the mosaicked digital ortho quarter quads\nis to support USDA Field Service Centers located in counties\nthroughout the United States.",
 "name": "AerialPhotography/2005AirPhotoFSA2Meter",
 "description": "This data set contains imagery from the National Agricultural\nImagery Program (NAIP). NAIP acquires digital ortho imagery\nduring the agricultural growing seasons in the continental U.S..\nA primary goal of the NAIP program is to enable availabilty of\northo imagery within a year of acquisition. NAIP provides two\nmain products: 1 meter ground sample distance (GSD) ortho\nimagery rectified to a horizontal accuracy of within +/- 5\nmeters of reference digital ortho quarter quads (DOQQS) from\nthe National Digital Ortho Program (NDOP); and, 2 meter GSD\northo imagery rectified to within +/- 10 meters of reference\nDOQQs.\nThe tiling format of NAIP imagery is based on a 3.75' x 3.75'\nquarter quadrangle with a 300 meter buffer on all four sides.\nNAIP quarter quads are rectified to the UTM coordinate\nsystem NAD83 and cast into a single predetermined UTM zone.\nNAIP imagery can obtain as much as 10% cloud cover per tile.\nThis file was generated by compressing NAIP digital quarter\nquadrangle image tiles either natural color positive or color\ninfrared positive source imagery into a single mosaic. The\nmosaic may cover all or portions of an individual county.\nMrSid software compression, with mosaic option, was used to\ncreate the final product. Target values for the compression\nratio are (15:1) and the maximum N-levels are used.\nAll digital products and the underlying source images were\nproduced through the National Agriculture Imagery Program (NAIP).\nThe primary purpose of the mosaicked digital ortho quarter quads\nis to support USDA Field Service Centers located in counties\nthroughout the United States.",
 "extent": {
  "xmin": 469910,
  "ymin": 4920156,
  "xmax": 525126,
  "ymax": 4976348,
  "spatialReference": {
   "wkid": 26915,
   "latestWkid": 26915
  }
 },
 "initialExtent": {
  "xmin": 469910,
  "ymin": 4920156,
  "xmax": 525126,
  "ymax": 4976348,
  "spatialReference": {
   "wkid": 26915,
   "latestWkid": 26915
  }
 },
 "fullExtent": {
  "xmin": 469910,
  "ymin": 4920156,
  "xmax": 525126,
  "ymax": 4976348,
  "spatialReference": {
   "wkid": 26915,
   "latestWkid": 26915
  }
 },
 "sortableFields": "",
 "bandCount": 3,
 "pixelType": "U8",
 "minValues": [
  41,
  57,
  76
 ],
 "maxValues": [
  255,
  255,
  255
 ],
 "meanValues": [
  148.87407407407,
  151.61043771044,
  151.4898989899
 ],
 "stdvValues": [
  54.711637402296,
  52.736197155093,
  52.348521880636
 ],
 "hasMultidimensions": false,
 "pixelSizeX": 2,
 "pixelSizeY": 2,
 "meanPixelSize": 2,
 "datasetFormat": "MrSID",
 "uncompressedSize": 2327023104,
 "blockWidth": 1024,
 "blockHeight": 128,
 "compressionType": "Wavelet (MG3)",
 "bandNames": [
  "Layer_1",
  "Layer_2",
  "Layer_3"
 ],
 "allowCopy": true,
 "allowAnalysis": true,
 "itemAccess": false,
 "inspectionCapabilities": "",
 "minPixelSize": 0,
 "maxPixelSize": 0,
 "copyrightText": "",
 "serviceDataType": "esriImageServiceDataTypeRGB",
 "serviceSourceType": "esriImageServiceSourceTypeDataset",
 "objectIdField": "",
 "fields": [],
 "capabilities": "Image,Metadata,Mensuration",
 "defaultMosaicMethod": "Center",
 "allowedMosaicMethods": "",
 "sortField": "",
 "sortValue": null,
 "sortAscending": true,
 "mosaicOperator": "First",
 "defaultCompressionQuality": 75,
 "defaultResamplingMethod": "Bilinear",
 "maxImageHeight": 4100,
 "maxImageWidth": 15000,
 "allowRasterFunction": true,
 "rasterFunctionInfos": [
  {
   "name": "None",
   "description": "",
   "help": ""
  }
 ],
 "rasterTypeInfos": [
  {
   "name": "Raster Dataset",
   "description": "Supports all ArcGIS Raster Datasets",
   "help": ""
  }
 ],
 "mensurationCapabilities": "Basic",
 "hasHistograms": true,
 "hasColormap": false,
 "hasRasterAttributeTable": false,
 "minScale": 0,
 "maxScale": 0,
 "exportTilesAllowed": false,
 "supportsStatistics": false,
 "supportsAdvancedQueries": false,
 "editFieldsInfo": null,
 "ownershipBasedAccessControlForRasters": null,
 "allowComputeTiePoints": false,
 "useStandardizedQueries": true,
 "advancedQueryCapabilities": {
  "useStandardizedQueries": true,
  "supportsStatistics": false,
  "supportsOrderBy": false,
  "supportsDistinct": false,
  "supportsPagination": false
 },
 "spatialReference": {
  "wkid": 26915,
  "latestWkid": 26915
 }
}
