<?xml version="1.0" encoding="UTF-8" standalone="no"?>
<metadata xml:lang="en">
<Esri>
<MetaID>{C1B5DCE5-430A-4819-BDB1-5BB925693AAD}</MetaID>
<CreaDate>20040312</CreaDate>
<CreaTime>08450100</CreaTime>
<SyncOnce>FALSE</SyncOnce>
<SyncDate>20050503</SyncDate>
<SyncTime>09262000</SyncTime>
<ModDate>20050503</ModDate>
<ModTime>09262000</ModTime>
</Esri>
<idinfo>
<native Sync="FALSE">ESRI ArcCatalog 9.0.0.535</native>
<descript>
<langdata Sync="TRUE">en</langdata>
<abstract>Color aerial photography taken September 2002. Original TIFF images were reprojected to the Dakota County Coordinate System and compressed using MrSID. Photography was flown at 17,500 feet with 0.75 meter resolution.</abstract>
<purpose>Can be used as a background for maps or Internet map applications instead of or in conjuction with planimentric data collected from higher resolution aerial photography.</purpose>
</descript>
<citation>
<citeinfo>
<origin>Aerials Express</origin>
<pubdate>Unknown</pubdate>
<title>2002 Color Orthophotography</title>
<ftname Sync="TRUE">DakotaCounty2002CD.sid</ftname>
<geoform Sync="TRUE">remote-sensing image</geoform>
<onlink Sync="FALSE">withheld</onlink>
</citeinfo>
</citation>
<timeperd>
<current>ground condition</current>
<timeinfo>
<sngdate>
<caldate>September 2002</caldate>
</sngdate>
</timeinfo>
</timeperd>
<status>
<progress>Complete</progress>
<update>Unknown</update>
</status>
<spdom>
<bounding>
<westbc Sync="TRUE">-93.357731</westbc>
<eastbc Sync="TRUE">-92.710234</eastbc>
<northbc Sync="TRUE">44.982787</northbc>
<southbc Sync="TRUE">44.424389</southbc>
</bounding>
<lboundng>
<leftbc Sync="TRUE">489373.597067</leftbc>
<rightbc Sync="TRUE">656931.597067</rightbc>
<bottombc Sync="TRUE">83240.658374</bottombc>
<topbc Sync="TRUE">286254.658374</topbc>
</lboundng>
</spdom>
<keywords>
<theme>
<themekt>REQUIRED: Reference to a formally registered thesaurus or a similar authoritative source of theme keywords.</themekt>
<themekey>Aerial Photography</themekey>
</theme>
<place>
<placekey>Dakota County</placekey>
<placekey>Apple Valley</placekey>
<placekey>Burnsville</placekey>
<placekey>Castle Rock Township</placekey>
<placekey>Coates</placekey>
<placekey>Douglas Township</placekey>
<placekey>Eagan</placekey>
<placekey>Empire Township</placekey>
<placekey>Farmington</placekey>
<placekey>Greenvale Township</placekey>
<placekey>Hampton</placekey>
<placekey>Hampton Township</placekey>
<placekey>Hastings</placekey>
<placekey>Inver Grove Heights</placekey>
<placekey>Lakeville</placekey>
<placekey>Lilydale</placekey>
<placekey>Marshan Township</placekey>
<placekey>Mendota</placekey>
<placekey>Mendota Heights</placekey>
<placekey>Miesville</placekey>
<placekey>New Trier</placekey>
<placekey>Nininger Township</placekey>
<placekey>Northfield</placekey>
<placekey>Randolph</placekey>
<placekey>Randolph Township</placekey>
<placekey>Ravenna Township</placekey>
<placekey>Rosemount</placekey>
<placekey>Sciota Township</placekey>
<placekey>South St. Paul</placekey>
<placekey>Sunfish Lake</placekey>
<placekey>Vermillion</placekey>
<placekey>Vermillion Township</placekey>
<placekey>Waterford Township</placekey>
<placekey>West St. Paul</placekey>
</place>
</keywords>
<accconst>Licensed by Aerials Express.</accconst>
<useconst>Dakota County, its cities and townships are licensed to use the aerial photography.</useconst>
<natvform Sync="TRUE">Raster Dataset</natvform>
<ptcontac>
<cntinfo>
<cntorgp>
<cntorg>Dakota County Office of Geographic Information Systems</cntorg>
<cntper>Department Staff</cntper>
</cntorgp>
<cntvoice>952.891.7081</cntvoice>
<cntfax>952.891.7097</cntfax>
<cntemail>GIS@co.dakota.mn.us</cntemail>
<hours>8AM ot 4:30PM</hours>
</cntinfo>
</ptcontac>
<datacred>Aerial Express</datacred>
</idinfo>
<dataIdInfo>
<envirDesc Sync="FALSE">ESRI ArcCatalog 9.0.0.535</envirDesc>
<dataLang>
<languageCode Sync="TRUE" value="en">
</languageCode>
</dataLang>
<idCitation>
<resTitle Sync="TRUE">DakotaCounty2002CD.sid</resTitle>
<presForm>
<PresFormCd Sync="TRUE" value="005">
</PresFormCd>
</presForm>
</idCitation>
<spatRpType>
<SpatRepTypCd Sync="TRUE" value="002">
</SpatRepTypCd>
</spatRpType>
<dataExt>
<geoEle>
<GeoBndBox esriExtentType="native">
<westBL Sync="TRUE">489373.597067</westBL>
<eastBL Sync="TRUE">656931.597067</eastBL>
<northBL Sync="TRUE">286254.658374</northBL>
<southBL Sync="TRUE">83240.658374</southBL>
<exTypeCode Sync="TRUE">1</exTypeCode>
</GeoBndBox>
</geoEle>
</dataExt>
<geoBox esriExtentType="decdegrees">
<westBL Sync="TRUE">-93.357731</westBL>
<eastBL Sync="TRUE">-92.710234</eastBL>
<northBL Sync="TRUE">44.982787</northBL>
<southBL Sync="TRUE">44.424389</southBL>
<exTypeCode Sync="TRUE">1</exTypeCode>
</geoBox>
<idAbs>Color aerial photography taken September 2002. Original TIFF images were reprojected to the Dakota County Coordinate System and compressed using MrSID. Photography was flown at 17,500 feet with 0.75 meter resolution.</idAbs>
<searchKeys>
<keyword>Apple Valley</keyword>
<keyword>Burnsville</keyword>
<keyword>Castle Rock Township</keyword>
<keyword>Coates</keyword>
<keyword>Douglas Township</keyword>
<keyword>Eagan</keyword>
<keyword>Empire Township</keyword>
<keyword>Farmington</keyword>
<keyword>Greenvale Township</keyword>
<keyword>Hampton</keyword>
<keyword>Hampton Township</keyword>
<keyword>Hastings</keyword>
<keyword>Inver Grove Heights</keyword>
<keyword>Lakeville</keyword>
<keyword>Lilydale</keyword>
<keyword>Marshan Township</keyword>
<keyword>Mendota</keyword>
<keyword>Mendota Heights</keyword>
<keyword>Miesville</keyword>
<keyword>New Trier</keyword>
<keyword>Nininger Township</keyword>
<keyword>Northfield</keyword>
<keyword>Randolph</keyword>
<keyword>Randolph Township</keyword>
<keyword>Ravenna Township</keyword>
<keyword>Rosemount</keyword>
<keyword>Sciota Township</keyword>
<keyword>South St. Paul</keyword>
<keyword>Sunfish Lake</keyword>
<keyword>Vermillion</keyword>
<keyword>Vermillion Township</keyword>
<keyword>Waterford Township</keyword>
<keyword>West St. Paul</keyword>
<keyword>Aerial Photography</keyword>
<keyword>Air Photo</keyword>
<keyword>Dakota County</keyword>
<keyword>general availability</keyword>
<keyword>GIS-J</keyword>
<keyword>imagery</keyword>
</searchKeys>
<idPurp>Can be used as a background for maps or Internet map applications instead of or in conjuction with planimentric data collected from higher resolution aerial...</idPurp>
<idCredit/>
<resConst>
<Consts>
<useLimit/>
</Consts>
</resConst>
</dataIdInfo>
<metainfo>
<langmeta Sync="TRUE">en</langmeta>
<metstdn Sync="TRUE">FGDC Content Standards for Digital Geospatial Metadata</metstdn>
<metstdv Sync="TRUE">FGDC-STD-001-1998</metstdv>
<mettc Sync="TRUE">local time</mettc>
<metc>
<cntinfo>
<cntorgp>
<cntper>Department Staff</cntper>
<cntorg>Dakota County Office of Geographic Information Systems</cntorg>
</cntorgp>
<cntaddr>
<addrtype>mailing and physical address</addrtype>
<city>Apple Valley</city>
<state>Minnesota</state>
<postal>55124</postal>
<address>14955 Galaxie Ave</address>
</cntaddr>
<cntvoice>952.891.7081</cntvoice>
<cntfax>952.891.7097</cntfax>
<cntemail>GIS@co.dakota.mn.us</cntemail>
<hours>8AM to 4:30PM</hours>
</cntinfo>
</metc>
<metd Sync="TRUE">20050503</metd>
<metextns>
<onlink Sync="TRUE">http://www.esri.com/metadata/esriprof80.html</onlink>
<metprof Sync="TRUE">ESRI Metadata Profile</metprof>
</metextns>
</metainfo>
<mdLang>
<languageCode Sync="TRUE" value="en">
</languageCode>
</mdLang>
<mdStanName Sync="TRUE">ISO 19115 Geographic Information - Metadata</mdStanName>
<mdStanVer Sync="TRUE">DIS_ESRI1.0</mdStanVer>
<mdChar>
<CharSetCd Sync="TRUE" value="004">
</CharSetCd>
</mdChar>
<mdHrLv>
<ScopeCd Sync="TRUE" value="005">
</ScopeCd>
</mdHrLv>
<mdHrLvName Sync="TRUE">dataset</mdHrLvName>
<distinfo>
<stdorder>
<digform>
<digtinfo>
<transize Sync="TRUE">628.940</transize>
<dssize Sync="TRUE">628.940</dssize>
</digtinfo>
</digform>
</stdorder>
<resdesc Sync="TRUE">Downloadable Data</resdesc>
</distinfo>
<distInfo>
<distributor>
<distorTran>
<onLineSrc>
<orDesc Sync="TRUE">002</orDesc>
<linkage Sync="FALSE">withheld</linkage>
<protocol Sync="TRUE">Local Area Network</protocol>
</onLineSrc>
<transSize Sync="TRUE">628.940</transSize>
</distorTran>
<distorFormat>
<formatName Sync="TRUE">Raster Dataset</formatName>
</distorFormat>
</distributor>
</distInfo>
<spdoinfo>
<direct Sync="TRUE">Raster</direct>
<rastinfo>
<rasttype Sync="TRUE">Pixel</rasttype>
<rowcount Sync="TRUE">101507</rowcount>
<colcount Sync="TRUE">83779</colcount>
<rastxsz Sync="TRUE">2.000000</rastxsz>
<rastysz Sync="TRUE">2.000000</rastysz>
<rastbpp Sync="TRUE">8</rastbpp>
<vrtcount Sync="TRUE">1</vrtcount>
<rastorig Sync="TRUE">Upper Left</rastorig>
<rastcmap Sync="TRUE">FALSE</rastcmap>
<rastcomp Sync="TRUE">Wavelet</rastcomp>
<rastband Sync="TRUE">3</rastband>
<rastdtyp Sync="TRUE">pixel codes</rastdtyp>
<rastplyr Sync="TRUE">TRUE</rastplyr>
<rastifor Sync="TRUE">MrSID</rastifor>
</rastinfo>
</spdoinfo>
<spatRepInfo>
<GridSpatRep>
<numDims Sync="TRUE">2</numDims>
<cellGeo>
<CellGeoCd Sync="TRUE" value="002">
</CellGeoCd>
</cellGeo>
<tranParaAv Sync="TRUE">1</tranParaAv>
<axDimProps>
<Dimen>
<dimName>
<DimNameTypCd Sync="TRUE" value="002">
</DimNameTypCd>
</dimName>
<dimSize Sync="TRUE">83779</dimSize>
<dimResol>
<value Sync="TRUE">2</value>
<uom>
<UomLength>
<uomName Sync="TRUE">Foot_US</uomName>
<conversionToISOstandardUnit Sync="TRUE">1 Foot_US = 0.304801 Meter(s)</conversionToISOstandardUnit>
</UomLength>
</uom>
</dimResol>
</Dimen>
<Dimen>
<dimName>
<DimNameTypCd Sync="TRUE" value="001">
</DimNameTypCd>
</dimName>
<dimSize Sync="TRUE">101507</dimSize>
<dimResol>
<value Sync="TRUE">2</value>
<uom>
<UomLength>
<uomName Sync="TRUE">Foot_US</uomName>
<conversionToISOstandardUnit Sync="TRUE">1 Foot_US = 0.304801 Meter(s)</conversionToISOstandardUnit>
</UomLength>
</uom>
</dimResol>
</Dimen>
</axDimProps>
</GridSpatRep>
</spatRepInfo>
<spref>
<horizsys>
<planar>
<planci>
<plance Sync="TRUE">row and column</plance>
<coordrep>
<absres Sync="TRUE">2.000000</absres>
<ordres Sync="TRUE">2.000000</ordres>
</coordrep>
<plandu Sync="TRUE">survey feet</plandu>
</planci>
<mapproj>
<mapprojn Sync="TRUE">Lambert Conformal Conic</mapprojn>
<lambertc>
<stdparll Sync="TRUE">44.516667</stdparll>
<stdparll Sync="TRUE">44.916667</stdparll>
<longcm Sync="TRUE">-93.316667</longcm>
<latprjo Sync="TRUE">44.471944</latprjo>
<feast Sync="TRUE">500000.000000</feast>
<fnorth Sync="TRUE">100000.000000</fnorth>
</lambertc>
</mapproj>
</planar>
<cordsysn>
<geogcsn Sync="TRUE">GCS_MN_Dakota</geogcsn>
<projcsn Sync="TRUE">MN_Dakota_Lambert_Conformal_Conic</projcsn>
</cordsysn>
<geodetic>
<horizdn Sync="TRUE">D_MN_Dakota</horizdn>
<ellips Sync="TRUE">MN_Dakota</ellips>
<semiaxis Sync="TRUE">6378421.989000</semiaxis>
<denflat Sync="TRUE">298.257213</denflat>
</geodetic>
</horizsys>
</spref>
<eainfo>
<detailed Name="Band_1">
<enttyp>
<enttypl Sync="TRUE">Band_1</enttypl>
<enttypt Sync="TRUE">Table</enttypt>
<enttypc Sync="TRUE">256</enttypc>
</enttyp>
<attr>
<attrlabl Sync="TRUE">ObjectID</attrlabl>
<attalias Sync="TRUE">ObjectID</attalias>
<attrtype Sync="TRUE">OID</attrtype>
<attwidth Sync="TRUE">4</attwidth>
<atprecis Sync="TRUE">0</atprecis>
<attscale Sync="TRUE">0</attscale>
<attrdef Sync="TRUE">Internal feature number.</attrdef>
<attrdefs Sync="TRUE">ESRI</attrdefs>
<attrdomv>
<udom Sync="TRUE">Sequential unique whole numbers that are automatically generated.</udom>
</attrdomv>
</attr>
<attr>
<attrlabl Sync="TRUE">Value</attrlabl>
<attalias Sync="TRUE">Value</attalias>
<attrtype Sync="TRUE">Integer</attrtype>
<attwidth Sync="TRUE">0</attwidth>
<atprecis Sync="TRUE">0</atprecis>
<attscale Sync="TRUE">0</attscale>
</attr>
<attr>
<attrlabl Sync="TRUE">Count</attrlabl>
<attalias Sync="TRUE">Count</attalias>
<attrtype Sync="TRUE">Integer</attrtype>
<attwidth Sync="TRUE">0</attwidth>
<atprecis Sync="TRUE">0</atprecis>
<attscale Sync="TRUE">0</attscale>
</attr>
</detailed>
<detailed Name="Band_2">
<enttyp>
<enttypl Sync="TRUE">Band_2</enttypl>
<enttypt Sync="TRUE">Table</enttypt>
<enttypc Sync="TRUE">256</enttypc>
</enttyp>
<attr>
<attrlabl Sync="TRUE">ObjectID</attrlabl>
<attalias Sync="TRUE">ObjectID</attalias>
<attrtype Sync="TRUE">OID</attrtype>
<attwidth Sync="TRUE">4</attwidth>
<atprecis Sync="TRUE">0</atprecis>
<attscale Sync="TRUE">0</attscale>
<attrdef Sync="TRUE">Internal feature number.</attrdef>
<attrdefs Sync="TRUE">ESRI</attrdefs>
<attrdomv>
<udom Sync="TRUE">Sequential unique whole numbers that are automatically generated.</udom>
</attrdomv>
</attr>
<attr>
<attrlabl Sync="TRUE">Value</attrlabl>
<attalias Sync="TRUE">Value</attalias>
<attrtype Sync="TRUE">Integer</attrtype>
<attwidth Sync="TRUE">0</attwidth>
<atprecis Sync="TRUE">0</atprecis>
<attscale Sync="TRUE">0</attscale>
</attr>
<attr>
<attrlabl Sync="TRUE">Count</attrlabl>
<attalias Sync="TRUE">Count</attalias>
<attrtype Sync="TRUE">Integer</attrtype>
<attwidth Sync="TRUE">0</attwidth>
<atprecis Sync="TRUE">0</atprecis>
<attscale Sync="TRUE">0</attscale>
</attr>
</detailed>
<detailed Name="Band_3">
<enttyp>
<enttypl Sync="TRUE">Band_3</enttypl>
<enttypt Sync="TRUE">Table</enttypt>
<enttypc Sync="TRUE">256</enttypc>
</enttyp>
<attr>
<attrlabl Sync="TRUE">ObjectID</attrlabl>
<attalias Sync="TRUE">ObjectID</attalias>
<attrtype Sync="TRUE">OID</attrtype>
<attwidth Sync="TRUE">4</attwidth>
<atprecis Sync="TRUE">0</atprecis>
<attscale Sync="TRUE">0</attscale>
<attrdef Sync="TRUE">Internal feature number.</attrdef>
<attrdefs Sync="TRUE">ESRI</attrdefs>
<attrdomv>
<udom Sync="TRUE">Sequential unique whole numbers that are automatically generated.</udom>
</attrdomv>
</attr>
<attr>
<attrlabl Sync="TRUE">Value</attrlabl>
<attalias Sync="TRUE">Value</attalias>
<attrtype Sync="TRUE">Integer</attrtype>
<attwidth Sync="TRUE">0</attwidth>
<atprecis Sync="TRUE">0</atprecis>
<attscale Sync="TRUE">0</attscale>
</attr>
<attr>
<attrlabl Sync="TRUE">Count</attrlabl>
<attalias Sync="TRUE">Count</attalias>
<attrtype Sync="TRUE">Integer</attrtype>
<attwidth Sync="TRUE">0</attwidth>
<atprecis Sync="TRUE">0</atprecis>
<attscale Sync="TRUE">0</attscale>
</attr>
</detailed>
</eainfo>
<mdDateSt Sync="TRUE">20050503</mdDateSt>
<dataqual>
<lineage>
<srcinfo>
<typesrc>DVD</typesrc>
<srctime>
<timeinfo>
<sngdate>
<caldate>September 2002</caldate>
</sngdate>
</timeinfo>
<srccurr>ground condition</srccurr>
</srctime>
</srcinfo>
<procstep>
<procdesc>Original TIFF images were reprojected to the Dakota County Coordinate System and compressed using MrSID</procdesc>
<procsv>ArcInfo Workstation and MrSID</procsv>
<procdate>January 2003</procdate>
</procstep>
</lineage>
</dataqual>
<refSysInfo>
<RefSystem>
<refSysID>
<identCode Sync="TRUE">MN_Dakota_Lambert_Conformal_Conic</identCode>
</refSysID>
</RefSystem>
</refSysInfo>
</metadata>
